BEGIN:VCALENDAR
VERSION:2.0
PRODID:-//Myriam Leblanc - Soprano - ECPv6.15.20//NONSGML v1.0//EN
CALSCALE:GREGORIAN
METHOD:PUBLISH
X-WR-CALNAME:Myriam Leblanc - Soprano
X-ORIGINAL-URL:https://www.myriamleblanc.net
X-WR-CALDESC:Événements pour Myriam Leblanc - Soprano
REFRESH-INTERVAL;VALUE=DURATION:PT1H
X-Robots-Tag:noindex
X-PUBLISHED-TTL:PT1H
BEGIN:VTIMEZONE
TZID:Europe/Paris
BEGIN:DAYLIGHT
TZOFFSETFROM:+0100
TZOFFSETTO:+0200
TZNAME:CEST
DTSTART:20250330T010000
END:DAYLIGHT
BEGIN:STANDARD
TZOFFSETFROM:+0200
TZOFFSETTO:+0100
TZNAME:CET
DTSTART:20251026T010000
END:STANDARD
BEGIN:DAYLIGHT
TZOFFSETFROM:+0100
TZOFFSETTO:+0200
TZNAME:CEST
DTSTART:20260329T010000
END:DAYLIGHT
BEGIN:STANDARD
TZOFFSETFROM:+0200
TZOFFSETTO:+0100
TZNAME:CET
DTSTART:20261025T010000
END:STANDARD
BEGIN:DAYLIGHT
TZOFFSETFROM:+0100
TZOFFSETTO:+0200
TZNAME:CEST
DTSTART:20270328T010000
END:DAYLIGHT
BEGIN:STANDARD
TZOFFSETFROM:+0200
TZOFFSETTO:+0100
TZNAME:CET
DTSTART:20271031T010000
END:STANDARD
END:VTIMEZONE
BEGIN:VEVENT
DTSTART;TZID=Europe/Paris:20260306T193000
DTEND;TZID=Europe/Paris:20260306T213000
DTSTAMP:20260424T090502
CREATED:20250714T152239Z
LAST-MODIFIED:20250714T152239Z
UID:1658-1772825400-1772832600@www.myriamleblanc.net
SUMMARY:Messe en Do mineur de Mozart - Caprice - Montréal
DESCRIPTION:La célèbre Symphonie no 5 de Beethoven\, avec ses premières notes inoubliables\, incarne à la fois la lutte et la lumière\, tandis que la Grande Messe en do mineurde Mozart déploie une puissance dramatique et une ferveur inégalée. \nPlongez au cœur du génie musical de deux des plus grands compositeurs classiques\, interprétés par l’Ensemble Caprice et quatre solistes exceptionnels. En complément du programme\, l’envoûtant Ave verum de Mozart sera chanté par l’exceptionnel chœur Ensemble ArtChoral. Sous la direction inspirée de Matthias Maute\, cette soirée promet de mêler éclat et intensité\, offrant une expérience musicale saisissante et inoubliable. Une occasion unique de vivre la splendeur de la musique classique dans toute sa magnificence! \nProgramme :Wolfgang Amadeus Mozart\, Grande messe en do mineur\, K. 427Ludwig van Beethoven\, La Symphonie no 5 en do mineur\, op. 67Wolfgang Amadeus Mozart\, Ave verum corpus\, K. 618
URL:https://www.myriamleblanc.net/event/messe-en-do-mineur-de-mozart-caprice-montreal
LOCATION:Maison Symphonique\, 1600 Rue Saint-Urbain\, Montréal\, Québec\, QC H2X 0S1\, Canada
END:VEVENT
BEGIN:VEVENT
DTSTART;TZID=Europe/Paris:20260312T193000
DTEND;TZID=Europe/Paris:20260312T213000
DTSTAMP:20260424T090502
CREATED:20250708T011440Z
LAST-MODIFIED:20250708T011440Z
UID:1633-1773343800-1773351000@www.myriamleblanc.net
SUMMARY:A Bach Celebration - Tafelmusik - Toronto
DESCRIPTION:Over the course of 40 years\, J.S. Bach wrote more than 200 astonishing cantatas\, of which only a handful are regularly performed today\nIvars Taurins has combed through all 200 to hand-pick a few hidden gems—choruses\, arias\, and recitatives—that we don’t hear as often in concert. \nOur Bach Celebration magnifies the composer’s mastery and genius\, creating a gallery of aural contrasts that range from a jubilant chorus with trumpets and timpani from Cantata 11 (the “Ascension Oratorio”)\, to the hauntingly beautiful aria “Die seele ruht” from Cantata 127. \nJoining the orchestra and choir are two vocal soloists known for their exquisite Bach interpretations. Soprano Myriam Leblanc\, with her voice “like a brandy distillate\, absolutely transparent” (Le Devoir)\, appeared most recently with Tafelmusik in our 2024 Handel Messiah and is featured in Choral Splendours in March 2025. \nThe Grammy Award-winning tenor James Reese made an impressive Tafelmusik debut in Messiah in 2023. Reese was noted for his “fresh\, youthful tone … Whether in declamatory recitatives or the aria proper\, he sang with great feeling and attention to detail” (Ludwig van Toronto).
URL:https://www.myriamleblanc.net/event/a-bach-celebration-tafelmusik-toronto
LOCATION:Jeanne Lamon Hall\, Trinity-St. Paul’s Centre\, 427 Bloor St W\, Toronto\, Ontario\, Canada
END:VEVENT
BEGIN:VEVENT
DTSTART;TZID=Europe/Paris:20260313T200000
DTEND;TZID=Europe/Paris:20260313T220000
DTSTAMP:20260424T090502
CREATED:20250708T011649Z
LAST-MODIFIED:20250708T011649Z
UID:1635-1773432000-1773439200@www.myriamleblanc.net
SUMMARY:A Bach Celebration – Tafelmusik – Toronto
DESCRIPTION:Over the course of 40 years\, J.S. Bach wrote more than 200 astonishing cantatas\, of which only a handful are regularly performed today\nIvars Taurins has combed through all 200 to hand-pick a few hidden gems—choruses\, arias\, and recitatives—that we don’t hear as often in concert. \nOur Bach Celebration magnifies the composer’s mastery and genius\, creating a gallery of aural contrasts that range from a jubilant chorus with trumpets and timpani from Cantata 11 (the “Ascension Oratorio”)\, to the hauntingly beautiful aria “Die seele ruht” from Cantata 127. \nJoining the orchestra and choir are two vocal soloists known for their exquisite Bach interpretations. Soprano Myriam Leblanc\, with her voice “like a brandy distillate\, absolutely transparent” (Le Devoir)\, appeared most recently with Tafelmusik in our 2024 Handel Messiah and is featured in Choral Splendours in March 2025. \nThe Grammy Award-winning tenor James Reese made an impressive Tafelmusik debut in Messiah in 2023. Reese was noted for his “fresh\, youthful tone … Whether in declamatory recitatives or the aria proper\, he sang with great feeling and attention to detail” (Ludwig van Toronto).
URL:https://www.myriamleblanc.net/event/a-bach-celebration-tafelmusik-toronto-2
LOCATION:Jeanne Lamon Hall\, Trinity-St. Paul’s Centre\, 427 Bloor St W\, Toronto\, Ontario\, Canada
END:VEVENT
BEGIN:VEVENT
DTSTART;TZID=Europe/Paris:20260314T200000
DTEND;TZID=Europe/Paris:20260314T220000
DTSTAMP:20260424T090502
CREATED:20250708T011742Z
LAST-MODIFIED:20250708T011742Z
UID:1637-1773518400-1773525600@www.myriamleblanc.net
SUMMARY:A Bach Celebration – Tafelmusik – Toronto
DESCRIPTION:Over the course of 40 years\, J.S. Bach wrote more than 200 astonishing cantatas\, of which only a handful are regularly performed today\nIvars Taurins has combed through all 200 to hand-pick a few hidden gems—choruses\, arias\, and recitatives—that we don’t hear as often in concert. \nOur Bach Celebration magnifies the composer’s mastery and genius\, creating a gallery of aural contrasts that range from a jubilant chorus with trumpets and timpani from Cantata 11 (the “Ascension Oratorio”)\, to the hauntingly beautiful aria “Die seele ruht” from Cantata 127. \nJoining the orchestra and choir are two vocal soloists known for their exquisite Bach interpretations. Soprano Myriam Leblanc\, with her voice “like a brandy distillate\, absolutely transparent” (Le Devoir)\, appeared most recently with Tafelmusik in our 2024 Handel Messiah and is featured in Choral Splendours in March 2025. \nThe Grammy Award-winning tenor James Reese made an impressive Tafelmusik debut in Messiah in 2023. Reese was noted for his “fresh\, youthful tone … Whether in declamatory recitatives or the aria proper\, he sang with great feeling and attention to detail” (Ludwig van Toronto).
URL:https://www.myriamleblanc.net/event/a-bach-celebration-tafelmusik-toronto-3
LOCATION:Jeanne Lamon Hall\, Trinity-St. Paul’s Centre\, 427 Bloor St W\, Toronto\, Ontario\, Canada
END:VEVENT
BEGIN:VEVENT
DTSTART;TZID=Europe/Paris:20260315T150000
DTEND;TZID=Europe/Paris:20260315T170000
DTSTAMP:20260424T090502
CREATED:20250708T011830Z
LAST-MODIFIED:20250708T011830Z
UID:1639-1773586800-1773594000@www.myriamleblanc.net
SUMMARY:A Bach Celebration – Tafelmusik – Toronto
DESCRIPTION:Over the course of 40 years\, J.S. Bach wrote more than 200 astonishing cantatas\, of which only a handful are regularly performed today\nIvars Taurins has combed through all 200 to hand-pick a few hidden gems—choruses\, arias\, and recitatives—that we don’t hear as often in concert. \nOur Bach Celebration magnifies the composer’s mastery and genius\, creating a gallery of aural contrasts that range from a jubilant chorus with trumpets and timpani from Cantata 11 (the “Ascension Oratorio”)\, to the hauntingly beautiful aria “Die seele ruht” from Cantata 127. \nJoining the orchestra and choir are two vocal soloists known for their exquisite Bach interpretations. Soprano Myriam Leblanc\, with her voice “like a brandy distillate\, absolutely transparent” (Le Devoir)\, appeared most recently with Tafelmusik in our 2024 Handel Messiah and is featured in Choral Splendours in March 2025. \nThe Grammy Award-winning tenor James Reese made an impressive Tafelmusik debut in Messiah in 2023. Reese was noted for his “fresh\, youthful tone … Whether in declamatory recitatives or the aria proper\, he sang with great feeling and attention to detail” (Ludwig van Toronto).
URL:https://www.myriamleblanc.net/event/a-bach-celebration-tafelmusik-toronto-4
LOCATION:Jeanne Lamon Hall\, Trinity-St. Paul’s Centre\, 427 Bloor St W\, Toronto\, Ontario\, Canada
END:VEVENT
BEGIN:VEVENT
DTSTART;TZID=Europe/Paris:20260320T200000
DTEND;TZID=Europe/Paris:20260320T220000
DTSTAMP:20260424T090502
CREATED:20260115T184802Z
LAST-MODIFIED:20260328T015315Z
UID:1682-1774036800-1774044000@www.myriamleblanc.net
SUMMARY:Luce e ombra - Pointe-Claire - Mirabilia
DESCRIPTION:Centre culturel Stewart Hall présente\nGRAND CONCERT – ENSEMBLE MIRABILIA: LUCE E OMBRA (LUMIÈRE ET OMBRE) – ANTONIO VIVALDI\n\n\n20 mars\n\n20h00 – 22h00 / Entrée: 19h15\nÉglise Saint-Joachim\n2 Av. Sainte-Anne\, Pointe-Claire\, QC\, Canada
URL:https://www.myriamleblanc.net/event/luce-e-ombra-pointe-claire-mirabilia
LOCATION:Centre culturel Stewart Hall\, 2 avenue Sainte-Anne\, Pointe-Claire\, Canada
END:VEVENT
BEGIN:VEVENT
DTSTART;TZID=Europe/Paris:20260328T193000
DTEND;TZID=Europe/Paris:20260328T213000
DTSTAMP:20260424T090502
CREATED:20250708T013536Z
LAST-MODIFIED:20260328T015151Z
UID:1654-1774726200-1774733400@www.myriamleblanc.net
SUMMARY:Requiem de Mozart - Orchestre symphonique de Gatineau - Gatineau
DESCRIPTION:À l’occasion du 270e anniversaire de naissance de Mozart\, l’Orchestre symphonique de Gatineau\, accompagné de son chœur\, de solistes invités et d’un chœur d’enfants\, présente l’une des œuvres les plus bouleversantes du répertoire : le Requiem K.626. Dans une mise en espace où lumières et grandeur donnent lieu à l’intime et au poignant\, cette œuvre inachevée résonnera avec toute la ferveur et la profondeur de l’héritage mozartien. Une soirée à la fois solennelle et lumineuse.
URL:https://www.myriamleblanc.net/event/requiem-de-mozart-orchestre-symphonique-de-gatineau-gatineau
LOCATION:Église St-Grégoire-de-Nazianze\, 150 Rue Maclaren E\, Gatineau\, Canada
END:VEVENT
END:VCALENDAR