BEGIN:VCALENDAR
VERSION:2.0
PRODID:-//Myriam Leblanc - Soprano - ECPv6.15.20//NONSGML v1.0//EN
CALSCALE:GREGORIAN
METHOD:PUBLISH
X-ORIGINAL-URL:https://www.myriamleblanc.net
X-WR-CALDESC:Événements pour Myriam Leblanc - Soprano
REFRESH-INTERVAL;VALUE=DURATION:PT1H
X-Robots-Tag:noindex
X-PUBLISHED-TTL:PT1H
BEGIN:VTIMEZONE
TZID:Europe/Paris
BEGIN:DAYLIGHT
TZOFFSETFROM:+0100
TZOFFSETTO:+0200
TZNAME:CEST
DTSTART:20240331T010000
END:DAYLIGHT
BEGIN:STANDARD
TZOFFSETFROM:+0200
TZOFFSETTO:+0100
TZNAME:CET
DTSTART:20241027T010000
END:STANDARD
BEGIN:DAYLIGHT
TZOFFSETFROM:+0100
TZOFFSETTO:+0200
TZNAME:CEST
DTSTART:20250330T010000
END:DAYLIGHT
BEGIN:STANDARD
TZOFFSETFROM:+0200
TZOFFSETTO:+0100
TZNAME:CET
DTSTART:20251026T010000
END:STANDARD
BEGIN:DAYLIGHT
TZOFFSETFROM:+0100
TZOFFSETTO:+0200
TZNAME:CEST
DTSTART:20260329T010000
END:DAYLIGHT
BEGIN:STANDARD
TZOFFSETFROM:+0200
TZOFFSETTO:+0100
TZNAME:CET
DTSTART:20261025T010000
END:STANDARD
END:VTIMEZONE
BEGIN:VEVENT
DTSTART;TZID=Europe/Paris:20251201T193000
DTEND;TZID=Europe/Paris:20251201T213000
DTSTAMP:20260424T151244
CREATED:20250708T004543Z
LAST-MODIFIED:20250711T011633Z
UID:1614-1764617400-1764624600@www.myriamleblanc.net
SUMMARY:BACH - Mirabilia - Festival Bach de Montréal
DESCRIPTION:Bach écrivait ses arias vocales avec une telle exigence que même ses propres interprètes avaient parfois du mal à suivre. Celles-ci trouvent pourtant tout leur éclat dans la voix de la soprano Myriam Leblanc. \nL’ensemble québécois\, Mirabilia\, révèle ici la vitalité du baroque allemand à travers l’œuvre de Johann Sebastian Bach. Les arias pour soprano\, entrelacées de pièces instrumentales\, offrent un parcours sensible et raffiné. Un instant savoureux entre voix et instruments d’époque. \n« Elle s’appelle Myriam Leblanc et d’après moi c’est dans les 10 dernières années une des plus belles voix\, peut-être la plus belle qui est sortie du vivier québécois… » – Christophe Huss\, Samedi et rien d’autre
URL:https://www.myriamleblanc.net/event/bach-mirabilia-festival-bach-de-montreal
LOCATION:Église Saint-Georges Mtl\, 1001 avenue des Canadiens-de-Montréal\, Montréal
END:VEVENT
BEGIN:VEVENT
DTSTART;TZID=Europe/Paris:20251212T190000
DTEND;TZID=Europe/Paris:20251212T210000
DTSTAMP:20260424T151244
CREATED:20250708T004949Z
LAST-MODIFIED:20250708T004949Z
UID:1616-1765566000-1765573200@www.myriamleblanc.net
SUMMARY:Messie de Handel - Early Music of Vancouver - Vancouver
DESCRIPTION:Artists: Myriam Leblanc\, soprano; Cecilia Duarte\, alto; Jacob Perry\, tenor; Sumner Thompson\, bass; the Vancouver Chamber Choir and the Pacific Baroque Orchestra directed by Alexander Weimann \nEarly Music Vancouver and Vancouver Chamber Choir’s joint mounting of Handel’s indomitable Messiah returns to The Orpheum with a stellar lineup of soloists. At times reflective\, joyful\, solemn\, and mysterious\, this monumental work speaks to audiences across all worlds\, bringing a fundamental message of hope. Alexander Weimann’s direction of this masterpiece is spell-binding. \nRichmond performance generously sponsored by The Graham & Gayle Cooke Foundation. \nVancouver performance generously sponsored by Dr. Katherine E. Paton\, In Memory of Dr. Gunnar Brosamier\, Bryan Atkins\, and Eric Wyness. \nRun time: 130 minutes with intermission
URL:https://www.myriamleblanc.net/event/messie-de-handel-early-music-of-vancouver-vancouver
LOCATION:Fraserview Mennonite Church\, 11295 Mellis Dr\, Richmond\, Colombie-Britannique\, Canada
END:VEVENT
BEGIN:VEVENT
DTSTART;TZID=Europe/Paris:20251213T190000
DTEND;TZID=Europe/Paris:20251213T210000
DTSTAMP:20260424T151244
CREATED:20250708T005119Z
LAST-MODIFIED:20250708T005119Z
UID:1619-1765652400-1765659600@www.myriamleblanc.net
SUMMARY:Messie de Handel - Early Music of Vancouver - Vancouver
DESCRIPTION:Handel’s Messiah\n\nArtists: Myriam Leblanc\, soprano; Cecilia Duarte\, alto; Jacob Perry\, tenor; Sumner Thompson\, bass; the Vancouver Chamber Choir and the Pacific Baroque Orchestra directed by Alexander Weimann \nEarly Music Vancouver and Vancouver Chamber Choir’s joint mounting of Handel’s indomitable Messiah returns to The Orpheum with a stellar lineup of soloists. At times reflective\, joyful\, solemn\, and mysterious\, this monumental work speaks to audiences across all worlds\, bringing a fundamental message of hope. Alexander Weimann’s direction of this masterpiece is spell-binding. \nRichmond performance generously sponsored by The Graham & Gayle Cooke Foundation. \nVancouver performance generously sponsored by Dr. Katherine E. Paton\, In Memory of Dr. Gunnar Brosamier\, Bryan Atkins\, and Eric Wyness. \nRun time: 130 minutes with intermission \nDecember 12\, 2025 at 7pm | Fraserview Mennonite Church\, Richmond \nDecember 13\, 2025 at 7pm | The Orpheum\, Vancouver \n\n\nPresented in collaboration with the Vancouver Chamber Choir
URL:https://www.myriamleblanc.net/event/messie-de-handel-early-music-of-vancouver-vancouver-2
LOCATION:The Orpheum\, 601 Smithe Street\, Vancouver\, Colombie-Britannique\, Canada
END:VEVENT
BEGIN:VEVENT
DTSTART;TZID=Europe/Paris:20251218T193000
DTEND;TZID=Europe/Paris:20251218T213000
DTSTAMP:20260424T151244
CREATED:20250708T005526Z
LAST-MODIFIED:20250708T005526Z
UID:1622-1766086200-1766093400@www.myriamleblanc.net
SUMMARY:Messie de Handel - Seattle Symphony Orchestra - Seattle
DESCRIPTION:Handel’s Messiah is a matchless December tradition. The exquisite choral writing and the wildly famous “Hallelujah” chorus — featuring the Seattle Symphony Chorale and a strong cast of vocal soloists alongside the orchestra — honor Handel’s greatest work.
URL:https://www.myriamleblanc.net/event/messie-de-handel-seattle-symphony-orchestra-seattle
LOCATION:Benaroya Hall\, 200 University St\, Seattle\, United States
END:VEVENT
BEGIN:VEVENT
DTSTART;TZID=Europe/Paris:20251220T200000
DTEND;TZID=Europe/Paris:20251220T220000
DTSTAMP:20260424T151244
CREATED:20250708T005652Z
LAST-MODIFIED:20250708T005652Z
UID:1625-1766260800-1766268000@www.myriamleblanc.net
SUMMARY:Messie de Handel – Seattle Symphony Orchestra – Seattle
DESCRIPTION:Handel’s Messiah is a matchless December tradition. The exquisite choral writing and the wildly famous “Hallelujah” chorus — featuring the Seattle Symphony Chorale and a strong cast of vocal soloists alongside the orchestra — honor Handel’s greatest work.
URL:https://www.myriamleblanc.net/event/messie-de-handel-seattle-symphony-orchestra-seattle-2
LOCATION:Benaroya Hall\, 200 University St\, Seattle\, United States
END:VEVENT
BEGIN:VEVENT
DTSTART;TZID=Europe/Paris:20251221T140000
DTEND;TZID=Europe/Paris:20251221T160000
DTSTAMP:20260424T151244
CREATED:20250708T005748Z
LAST-MODIFIED:20250708T005748Z
UID:1627-1766325600-1766332800@www.myriamleblanc.net
SUMMARY:Messie de Handel – Seattle Symphony Orchestra – Seattle
DESCRIPTION:Handel’s Messiah is a matchless December tradition. The exquisite choral writing and the wildly famous “Hallelujah” chorus — featuring the Seattle Symphony Chorale and a strong cast of vocal soloists alongside the orchestra — honor Handel’s greatest work.
URL:https://www.myriamleblanc.net/event/messie-de-handel-seattle-symphony-orchestra-seattle-3
LOCATION:Benaroya Hall\, 200 University St\, Seattle\, United States
END:VEVENT
END:VCALENDAR