BEGIN:VCALENDAR
VERSION:2.0
PRODID:-//Myriam Leblanc - Soprano - ECPv6.15.20//NONSGML v1.0//EN
CALSCALE:GREGORIAN
METHOD:PUBLISH
X-ORIGINAL-URL:https://www.myriamleblanc.net
X-WR-CALDESC:Événements pour Myriam Leblanc - Soprano
REFRESH-INTERVAL;VALUE=DURATION:PT1H
X-Robots-Tag:noindex
X-PUBLISHED-TTL:PT1H
BEGIN:VTIMEZONE
TZID:Europe/Paris
BEGIN:DAYLIGHT
TZOFFSETFROM:+0100
TZOFFSETTO:+0200
TZNAME:CEST
DTSTART:20240331T010000
END:DAYLIGHT
BEGIN:STANDARD
TZOFFSETFROM:+0200
TZOFFSETTO:+0100
TZNAME:CET
DTSTART:20241027T010000
END:STANDARD
BEGIN:DAYLIGHT
TZOFFSETFROM:+0100
TZOFFSETTO:+0200
TZNAME:CEST
DTSTART:20250330T010000
END:DAYLIGHT
BEGIN:STANDARD
TZOFFSETFROM:+0200
TZOFFSETTO:+0100
TZNAME:CET
DTSTART:20251026T010000
END:STANDARD
BEGIN:DAYLIGHT
TZOFFSETFROM:+0100
TZOFFSETTO:+0200
TZNAME:CEST
DTSTART:20260329T010000
END:DAYLIGHT
BEGIN:STANDARD
TZOFFSETFROM:+0200
TZOFFSETTO:+0100
TZNAME:CET
DTSTART:20261025T010000
END:STANDARD
END:VTIMEZONE
BEGIN:VEVENT
DTSTART;TZID=Europe/Paris:20251101T140000
DTEND;TZID=Europe/Paris:20251101T160000
DTSTAMP:20260424T151244
CREATED:20250903T145619Z
LAST-MODIFIED:20250903T145619Z
UID:1666-1762005600-1762012800@www.myriamleblanc.net
SUMMARY:Requiem de Mozart - Harmonie des saisons
DESCRIPTION:Le Requiem de W. A. MOZART:  \n\nL’Harmonie des saisons célèbre ses 15 ans en grand! \nPour marquer cet anniversaire exceptionnel\, L’Harmonie des saisons — solistes\, chœur et orchestre — présentera l’une des plus grandes oeuvres du répertoire sacré : le Requiem de W. A. Mozart. L’ensemble composé pour l’occasion de 45 artistes en provenance du Canada\, des États-Unis et du Chili\, vous offrira une expérience musicale saisissante\, entre prière funèbre et théâtre sacré. \nInterprétée sur instruments d’époque\, cette œuvre mythique retrouvera pour l’occasion les couleurs et les textures sonores entendues par le public viennois de 1791. Les timbres riches et profonds des cors naturels\, cors de basset\, trombones et bassons classiques\, appuyés par la chaleur toute organique des cordes en boyau\, insuffleront à cette musique une intensité rare\, mêlant à la fois gravité et fragilité poignante. \nEn ouverture de programme\, vous découvrirez une perle méconnue : le Miserere mei Deus de Marianna Martines (1744–1812)\, compositrice brillante et figure majeure de la Vienne classique. Rarement programmée\, sa musique sacrée\, noble et expressive offira ici un dialogue émouvant entre une voix féminine oubliée et le génie de Mozart — une rencontre musicale aussi surprenante que marquante.
URL:https://www.myriamleblanc.net/event/requiem-de-mozart-harmonie-des-saisons
LOCATION:Église Sainte-Famille de Granby\, 115 rue Principale\, Granby
END:VEVENT
BEGIN:VEVENT
DTSTART;TZID=Europe/Paris:20251101T200000
DTEND;TZID=Europe/Paris:20251101T220000
DTSTAMP:20260424T151244
CREATED:20250903T145828Z
LAST-MODIFIED:20250903T145828Z
UID:1669-1762027200-1762034400@www.myriamleblanc.net
SUMMARY:Requiem de Mozart- Harmonie des saisons
DESCRIPTION:Le Requiem de W. A. MOZART:  \n\nL’Harmonie des saisons célèbre ses 15 ans en grand! \nPour marquer cet anniversaire exceptionnel\, L’Harmonie des saisons — solistes\, chœur et orchestre — présentera l’une des plus grandes oeuvres du répertoire sacré : le Requiem de W. A. Mozart. L’ensemble composé pour l’occasion de 45 artistes en provenance du Canada\, des États-Unis et du Chili\, vous offrira une expérience musicale saisissante\, entre prière funèbre et théâtre sacré. \nInterprétée sur instruments d’époque\, cette œuvre mythique retrouvera pour l’occasion les couleurs et les textures sonores entendues par le public viennois de 1791. Les timbres riches et profonds des cors naturels\, cors de basset\, trombones et bassons classiques\, appuyés par la chaleur toute organique des cordes en boyau\, insuffleront à cette musique une intensité rare\, mêlant à la fois gravité et fragilité poignante. \nEn ouverture de programme\, vous découvrirez une perle méconnue : le Miserere mei Deus de Marianna Martines (1744–1812)\, compositrice brillante et figure majeure de la Vienne classique. Rarement programmée\, sa musique sacrée\, noble et expressive offira ici un dialogue émouvant entre une voix féminine oubliée et le génie de Mozart — une rencontre musicale aussi surprenante que marquante.
URL:https://www.myriamleblanc.net/event/requiem-de-mozart-harmonie-des-saisons-2
LOCATION:Église de Saint Albans\, 246 Lake street\, Saint Albans\, United States
END:VEVENT
BEGIN:VEVENT
DTSTART;TZID=Europe/Paris:20251102T160000
DTEND;TZID=Europe/Paris:20251102T180000
DTSTAMP:20260424T151244
CREATED:20250903T150006Z
LAST-MODIFIED:20250903T150006Z
UID:1672-1762099200-1762106400@www.myriamleblanc.net
SUMMARY:Requiem de Mozart - Harmonie des saisons
DESCRIPTION:Le Requiem de W. A. MOZART:  \n\nL’Harmonie des saisons célèbre ses 15 ans en grand! \nPour marquer cet anniversaire exceptionnel\, L’Harmonie des saisons — solistes\, chœur et orchestre — présentera l’une des plus grandes oeuvres du répertoire sacré : le Requiem de W. A. Mozart. L’ensemble composé pour l’occasion de 45 artistes en provenance du Canada\, des États-Unis et du Chili\, vous offrira une expérience musicale saisissante\, entre prière funèbre et théâtre sacré. \nInterprétée sur instruments d’époque\, cette œuvre mythique retrouvera pour l’occasion les couleurs et les textures sonores entendues par le public viennois de 1791. Les timbres riches et profonds des cors naturels\, cors de basset\, trombones et bassons classiques\, appuyés par la chaleur toute organique des cordes en boyau\, insuffleront à cette musique une intensité rare\, mêlant à la fois gravité et fragilité poignante. \nEn ouverture de programme\, vous découvrirez une perle méconnue : le Miserere mei Deus de Marianna Martines (1744–1812)\, compositrice brillante et figure majeure de la Vienne classique. Rarement programmée\, sa musique sacrée\, noble et expressive offira ici un dialogue émouvant entre une voix féminine oubliée et le génie de Mozart — une rencontre musicale aussi surprenante que marquante.
URL:https://www.myriamleblanc.net/event/requiem-de-mozart-harmonie-des-saisons-3
LOCATION:Burlington\, Burlington\, United States
END:VEVENT
BEGIN:VEVENT
DTSTART;TZID=Europe/Paris:20251123T150000
DTEND;TZID=Europe/Paris:20251123T170000
DTSTAMP:20260424T151244
CREATED:20250708T004141Z
LAST-MODIFIED:20250708T004141Z
UID:1609-1763910000-1763917200@www.myriamleblanc.net
SUMMARY:Requiem de Dompierre - Orchestre symphonique de Sherbrooke - Sherbrooke
DESCRIPTION:Jean-Michel Malouf\, chef \nMyriam Leblanc\, soprano \nAndrew Haji\, ténor \nGeoffroy Salvas\, basse \nÉlaine Marcil\, violoniste soliste \nOrchestre symphonique de Sherbrooke \nAvec la collaboration des Bishop’s University Signers et la participation des Chœurs solidaires de Trium musique  \nÀ la croisée des chemins\, voire à la croisée des mondes\, cette œuvre-chorale puissante et profonde de François Dompierre s’inscrit autant dans un héritage liturgique judéochrétien que dans une trame cinématographique profane traduisant en musique populaire les fluctuations des sentiments humains aux prises avec la mort. Assistez à cette saisissante rencontre entre tradition et modernité durant cette messe euphonique où résonneront les voix émouvantes des trois solistes ayant participé à la création de ce succès intergénérationnel en juin 2024. En ouverture\, l’OSS mettra en vedette la violon solo Élaine Marcil en revisitant Vivaldi\, grâce aux partitions ressuscitées de Richter\, où se fondent musique classique\, contemporaine et électronique. Préparez-vous à vivre une grande prestation d’intensité musicale! 
URL:https://www.myriamleblanc.net/event/requiem-de-dompierre-orchestre-symphonique-de-sherbrooke-sherbrooke
LOCATION:Salle Maurice O’Bready\, 2500 Bd de l'Université\, Sherbrooke\, Canada
END:VEVENT
BEGIN:VEVENT
DTSTART;TZID=Europe/Paris:20251130T150000
DTEND;TZID=Europe/Paris:20251130T170000
DTSTAMP:20260424T151244
CREATED:20250708T004342Z
LAST-MODIFIED:20250708T004342Z
UID:1612-1764514800-1764522000@www.myriamleblanc.net
SUMMARY:La Nativité - Mirabilia - Chapelle Historique du Bon Pasteur
DESCRIPTION:Myriam Leblanc Soprano\nGrégoire Jeay : Flûtes\nAndrea Stewart\, violoncelle baroque\nChristophe Gauthier\, clavecin/orgue positif \nProgramme : \nAnonyme : Cher enfant qui vient de naître\nMichel-Richard Delalande : Noëls en trio\nAnonyme : Bel astre que j’adore\nDavid Scheidemann : Puer nobis nascitur\nGeorg Friedrich Handel : How Beautiful are the feet\nGeorg Friedrich Handel : I know that my redeemer liveth\nGeorg Friedrich Handel : Sonate en ré majeur pour flûte et b. c.\nGeorg Friedrich Handel : Guardian Angels\nGrégoire Jeay : Variations sur GreenSleeves\nCipriano De Rore : Angelus ad pastores ait\nAntonio Vivaldi : Nulla in mundo pax sincera\nJohann Sebastian Bach : Meine Seele\, sei vergnügt
URL:https://www.myriamleblanc.net/event/la-nativite-mirabilia-chapelle-historique-du-bon-pasteur
LOCATION:Salle Paul-Desmarais du Centre canadien d’Architecture\, 1920 rue baile\, Montréal\, Canada
END:VEVENT
END:VCALENDAR