BEGIN:VCALENDAR
VERSION:2.0
PRODID:-//Myriam Leblanc - Soprano - ECPv6.15.20//NONSGML v1.0//EN
CALSCALE:GREGORIAN
METHOD:PUBLISH
X-WR-CALNAME:Myriam Leblanc - Soprano
X-ORIGINAL-URL:https://www.myriamleblanc.net
X-WR-CALDESC:Événements pour Myriam Leblanc - Soprano
REFRESH-INTERVAL;VALUE=DURATION:PT1H
X-Robots-Tag:noindex
X-PUBLISHED-TTL:PT1H
BEGIN:VTIMEZONE
TZID:Europe/Paris
BEGIN:DAYLIGHT
TZOFFSETFROM:+0100
TZOFFSETTO:+0200
TZNAME:CEST
DTSTART:20240331T010000
END:DAYLIGHT
BEGIN:STANDARD
TZOFFSETFROM:+0200
TZOFFSETTO:+0100
TZNAME:CET
DTSTART:20241027T010000
END:STANDARD
BEGIN:DAYLIGHT
TZOFFSETFROM:+0100
TZOFFSETTO:+0200
TZNAME:CEST
DTSTART:20250330T010000
END:DAYLIGHT
BEGIN:STANDARD
TZOFFSETFROM:+0200
TZOFFSETTO:+0100
TZNAME:CET
DTSTART:20251026T010000
END:STANDARD
BEGIN:DAYLIGHT
TZOFFSETFROM:+0100
TZOFFSETTO:+0200
TZNAME:CEST
DTSTART:20260329T010000
END:DAYLIGHT
BEGIN:STANDARD
TZOFFSETFROM:+0200
TZOFFSETTO:+0100
TZNAME:CET
DTSTART:20261025T010000
END:STANDARD
END:VTIMEZONE
BEGIN:VEVENT
DTSTART;TZID=Europe/Paris:20250405T193000
DTEND;TZID=Europe/Paris:20250405T213000
DTSTAMP:20260425T014828
CREATED:20250127T235647Z
LAST-MODIFIED:20250127T235647Z
UID:1538-1743881400-1743888600@www.myriamleblanc.net
SUMMARY:Chœur Métropolitain : Sacré Gilles Vigneault - OM
DESCRIPTION:Quand le géant de la chanson Gilles Vigneault crée une messe\, le résultat est à la fois divin et sans cérémonie. On retrouve dans ses textes et ses mélodies toute\nla simplicité et la franchise qu’on lui connaît\, en plus de rappeler des accents de son Natashquan natal\, puisqu’une partie de la messe est chantée en innu. \nPour compléter la célébration\, une autre messe qui s’inspire du folklore musical des Amériques\, la Misa Criolla du compositeur argentin Ariel Ramirez. De la même façon que la messe de Vigneault\, cette œuvre traduit en musique la personnalité unique de tout un peuple.
URL:https://www.myriamleblanc.net/event/choeur-metropolitain-sacre-gilles-vigneault-om
LOCATION:Maison Symphonique\, 1600 Rue Saint-Urbain\, Montréal\, Québec\, QC H2X 0S1\, Canada
END:VEVENT
BEGIN:VEVENT
DTSTART;TZID=Europe/Paris:20250406T150000
DTEND;TZID=Europe/Paris:20250406T170000
DTSTAMP:20260425T014828
CREATED:20250128T000131Z
LAST-MODIFIED:20250128T000131Z
UID:1540-1743951600-1743958800@www.myriamleblanc.net
SUMMARY:Vox Luminosa - Requiem pour Roxanne - Joliette
DESCRIPTION:Requiem pour Roxanne de Michel Massé en collaboration avec le Centre culturel de Joliette dans le cadre d’un concert bénéfice pour Opus 130 le 6 avril 2025.
URL:https://www.myriamleblanc.net/event/vox-luminosa-requiem-pour-roxanne-joliette
LOCATION:Cathédrale de Joliette\, 2 rue Saint-Charles-Borromée\, Joliette\, Québec\, Canada
END:VEVENT
BEGIN:VEVENT
DTSTART;TZID=Europe/Paris:20250416T193000
DTEND;TZID=Europe/Paris:20250416T213000
DTSTAMP:20260425T014828
CREATED:20240618T235936Z
LAST-MODIFIED:20240618T235936Z
UID:1354-1744831800-1744839000@www.myriamleblanc.net
SUMMARY:Requiem de Mozart - OSM - Montréal
DESCRIPTION:L’intensité dramatique et la sincérité des sentiments exprimés par Mozart dans son Requiem contribuent à la fascination que cette œuvre continue d’exercer plus de 200 ans après sa composition. \n  \n\nArtistes\n\nOrchestre symphonique de Montréal \n\n\nRafael Payare\, chef d’orchestre \n\n\nMyriam Leblanc\, soprano \n\n\nJulie Boulianne\, mezzo-soprano \n\n\nJoé Lampron-Dandonneau\, ténor \n\n\nRobert Gleadow\, basse \n\n\nJean-Willy Kunz\, organiste en résidence de l’OSM \n\n\nLara St. John\, Violon \n\n\nChœur de l’OSM \n\n\nAndrew Megill\, chef de choeur \n\n\n\nŒuvres\n\nJohann Sebastian Bach\, Prélude et fugue pour orgue en si mineur\, BWV 544 (12 min) \nJesu\, meine Freude\, motet\, BWV 227 (21 min) \n  \n\n\nWolfgang Amadeus Mozart\, Requiem en ré mineur\, K. 626 (48 min)
URL:https://www.myriamleblanc.net/event/requiem-de-mozart-osm-montreal
LOCATION:Maison Symphonique\, 1600 Rue Saint-Urbain\, Montréal\, Québec\, QC H2X 0S1\, Canada
END:VEVENT
BEGIN:VEVENT
DTSTART;TZID=Europe/Paris:20250417T193000
DTEND;TZID=Europe/Paris:20250417T213000
DTSTAMP:20260425T014828
CREATED:20240619T000111Z
LAST-MODIFIED:20240619T000111Z
UID:1356-1744918200-1744925400@www.myriamleblanc.net
SUMMARY:Requiem de Mozart – OSM – Montréal
DESCRIPTION:L’intensité dramatique et la sincérité des sentiments exprimés par Mozart dans son Requiem contribuent à la fascination que cette œuvre continue d’exercer plus de 200 ans après sa composition. \n  \n\nArtistes\n\nOrchestre symphonique de Montréal \n\n\nRafael Payare\, chef d’orchestre \n\n\nMyriam Leblanc\, soprano \n\n\nJulie Boulianne\, mezzo-soprano \n\n\nJoé Lampron-Dandonneau\, ténor \n\n\nRobert Gleadow\, basse \n\n\nJean-Willy Kunz\, organiste en résidence de l’OSM \n\n\nLara St. John\, Violon \n\n\nChœur de l’OSM \n\n\nAndrew Megill\, chef de choeur \n\n\n\nŒuvres\n\nJohann Sebastian Bach\, Prélude et fugue pour orgue en si mineur\, BWV 544 (12 min) \nJesu\, meine Freude\, motet\, BWV 227 (21 min) \n  \n  \n\n\nWolfgang Amadeus Mozart\, Requiem en ré mineur\, K. 626 (48 min)
URL:https://www.myriamleblanc.net/event/requiem-de-mozart-osm-montreal-2
LOCATION:Maison Symphonique\, 1600 Rue Saint-Urbain\, Montréal\, Québec\, QC H2X 0S1\, Canada
END:VEVENT
BEGIN:VEVENT
DTSTART;TZID=Europe/Paris:20250418T193000
DTEND;TZID=Europe/Paris:20250418T213000
DTSTAMP:20260425T014828
CREATED:20250127T235424Z
LAST-MODIFIED:20250127T235424Z
UID:1536-1745004600-1745011800@www.myriamleblanc.net
SUMMARY:Requiem de Mozart - OSM - Montréal
DESCRIPTION:L’intensité dramatique et la sincérité des sentiments exprimés par Mozart dans son Requiem contribuent à la fascination que cette œuvre continue d’exercer plus de 200 ans après sa composition. \n  \n\nArtistes\n\nOrchestre symphonique de Montréal \n\n\nRafael Payare\, chef d’orchestre \n\n\nMyriam Leblanc\, soprano \n\n\nJulie Boulianne\, mezzo-soprano \n\n\nJoé Lampron-Dandonneau\, ténor \n\n\nRobert Gleadow\, basse \n\n\nJean-Willy Kunz\, organiste en résidence de l’OSM \n\n\nLara St. John\, Violon \n\n\nChœur de l’OSM \n\n\nAndrew Megill\, chef de choeur \n\n\n\nŒuvres\n\nJohann Sebastian Bach\, Prélude et fugue pour orgue en si mineur\, BWV 544 (12 min) \nJesu\, meine Freude\, motet\, BWV 227 (21 min) \n  \n  \n\n\nWolfgang Amadeus Mozart\, Requiem en ré mineur\, K. 626 (48 min)
URL:https://www.myriamleblanc.net/event/requiem-de-mozart-osm-montreal-3
LOCATION:Maison Symphonique\, 1600 Rue Saint-Urbain\, Montréal\, Québec\, QC H2X 0S1\, Canada
END:VEVENT
END:VCALENDAR