BEGIN:VCALENDAR
VERSION:2.0
PRODID:-//Myriam Leblanc - Soprano - ECPv6.15.20//NONSGML v1.0//EN
CALSCALE:GREGORIAN
METHOD:PUBLISH
X-WR-CALNAME:Myriam Leblanc - Soprano
X-ORIGINAL-URL:https://www.myriamleblanc.net
X-WR-CALDESC:Événements pour Myriam Leblanc - Soprano
REFRESH-INTERVAL;VALUE=DURATION:PT1H
X-Robots-Tag:noindex
X-PUBLISHED-TTL:PT1H
BEGIN:VTIMEZONE
TZID:Europe/Paris
BEGIN:DAYLIGHT
TZOFFSETFROM:+0100
TZOFFSETTO:+0200
TZNAME:CEST
DTSTART:20240331T010000
END:DAYLIGHT
BEGIN:STANDARD
TZOFFSETFROM:+0200
TZOFFSETTO:+0100
TZNAME:CET
DTSTART:20241027T010000
END:STANDARD
BEGIN:DAYLIGHT
TZOFFSETFROM:+0100
TZOFFSETTO:+0200
TZNAME:CEST
DTSTART:20250330T010000
END:DAYLIGHT
BEGIN:STANDARD
TZOFFSETFROM:+0200
TZOFFSETTO:+0100
TZNAME:CET
DTSTART:20251026T010000
END:STANDARD
BEGIN:DAYLIGHT
TZOFFSETFROM:+0100
TZOFFSETTO:+0200
TZNAME:CEST
DTSTART:20260329T010000
END:DAYLIGHT
BEGIN:STANDARD
TZOFFSETFROM:+0200
TZOFFSETTO:+0100
TZNAME:CET
DTSTART:20261025T010000
END:STANDARD
END:VTIMEZONE
BEGIN:VEVENT
DTSTART;TZID=Europe/Paris:20250306T193000
DTEND;TZID=Europe/Paris:20250306T213000
DTSTAMP:20260425T032014
CREATED:20240618T234858Z
LAST-MODIFIED:20240618T234858Z
UID:1341-1741289400-1741296600@www.myriamleblanc.net
SUMMARY:Bach\, les premières cantates - Les Violons du Roy
DESCRIPTION:6 MARS 2025à 19:30\n\nLIEU \n\nSalle Raoul-Jobin \n\nPalais Montcalm – Maison de la musique\n995\, place D’Youville\nQuébec (Québec) G1R 3P1\nCanada \n\n\n\n\n\n\n\n\n\nOn s’imagine facilement et même presque exclusivement le grand Johann Sebastian Bach en homme âgé\, pétri des plus grands savoirs  musicaux que seuls l’expérience et le temps  apportent. C’est pourtant un tout jeune homme\, au début de la vingtaine\, qui nous lègue les puissants et parfaits chefs-d’œuvre que sont ses toutes premières cantates. Des œuvres qui ouvrent l’une des plus importantes sommes musicales de tout l’Occident\, livrées ici avec La Chapelle de Québec\, dans toute leur splendeur.\n\n  \nJ.S. BACH \n\n• Cantate Christ lag in Todes Banden\, BWV 4\n• Cantate Gottes Zeit ist die allerbeste Zeit\, BWV 106\n• Cantate Aus der Tiefe rufe ich\, Herr\, zu dir\, BWV 131\n• Cantate Nach dir\, Herr\, verlanget mich\, BWV 150
URL:https://www.myriamleblanc.net/event/bach-les-premieres-cantates-les-violons-du-roy
LOCATION:Palais Montcalm\, 995 Rue D'Youville\, Québec\, Québec\, G1R 3P1\, Canada
END:VEVENT
BEGIN:VEVENT
DTSTART;TZID=Europe/Paris:20250307T193000
DTEND;TZID=Europe/Paris:20250307T213000
DTSTAMP:20260425T032014
CREATED:20240618T235005Z
LAST-MODIFIED:20240618T235011Z
UID:1343-1741375800-1741383000@www.myriamleblanc.net
SUMMARY:Bach\, les premières cantates – Les Violons du Roy - Québec
DESCRIPTION:6 MARS 2025à 19:30\n\n\nLIEU \n\nSalle Raoul-Jobin \n\nPalais Montcalm – Maison de la musique\n995\, place D’Youville\nQuébec (Québec) G1R 3P1\nCanada \n\n\n\n\n\n\n\n\n\nOn s’imagine facilement et même presque exclusivement le grand Johann Sebastian Bach en homme âgé\, pétri des plus grands savoirs  musicaux que seuls l’expérience et le temps  apportent. C’est pourtant un tout jeune homme\, au début de la vingtaine\, qui nous lègue les puissants et parfaits chefs-d’œuvre que sont ses toutes premières cantates. Des œuvres qui ouvrent l’une des plus importantes sommes musicales de tout l’Occident\, livrées ici avec La Chapelle de Québec\, dans toute leur splendeur.\n\n  \nJ.S. BACH \n\n• Cantate Christ lag in Todes Banden\, BWV 4\n• Cantate Gottes Zeit ist die allerbeste Zeit\, BWV 106\n• Cantate Aus der Tiefe rufe ich\, Herr\, zu dir\, BWV 131\n• Cantate Nach dir\, Herr\, verlanget mich\, BWV 150
URL:https://www.myriamleblanc.net/event/bach-les-premieres-cantates-les-violons-du-roy-2
LOCATION:Palais Montcalm\, 995 Rue D'Youville\, Québec\, Québec\, G1R 3P1\, Canada
END:VEVENT
BEGIN:VEVENT
DTSTART;TZID=Europe/Paris:20250308T193000
DTEND;TZID=Europe/Paris:20250308T213000
DTSTAMP:20260425T032014
CREATED:20240618T235201Z
LAST-MODIFIED:20240618T235201Z
UID:1346-1741462200-1741469400@www.myriamleblanc.net
SUMMARY:Bach\, les premières cantates – Les Violons du Roy - Montréal
DESCRIPTION:LIEU\n\n\n\n\n\n\n\n\nMaison symphonique de Montréal \n\n1600\, rue Saint-Urbain\nMontréal (Québec)\nCanada \n\n\n\n\n\n\n\nOn s’imagine facilement et même presque exclusivement le grand Johann Sebastian Bach en homme âgé\, pétri des plus grands savoirs  musicaux que seuls l’expérience et le temps  apportent. C’est pourtant un tout jeune homme\, au début de la vingtaine\, qui nous lègue les puissants et parfaits chefs-d’œuvre que sont ses toutes premières cantates. Des œuvres qui ouvrent l’une des plus importantes sommes musicales de tout l’Occident\, livrées ici avec La Chapelle de Québec\, dans toute leur splendeur. \n\n\n\n\nJ.S. BACH \n\n• Cantate Christ lag in Todes Banden\, BWV 4\n• Cantate Gottes Zeit ist die allerbeste Zeit\, BWV 106\n• Cantate Aus der Tiefe rufe ich\, Herr\, zu dir\, BWV 131\n• Cantate Nach dir\, Herr\, verlanget mich\, BWV 150
URL:https://www.myriamleblanc.net/event/bach-les-premieres-cantates-les-violons-du-roy-montreal
LOCATION:Maison Symphonique\, 1600 Rue Saint-Urbain\, Montréal\, Québec\, QC H2X 0S1\, Canada
END:VEVENT
BEGIN:VEVENT
DTSTART;TZID=Europe/Paris:20250328T200000
DTEND;TZID=Europe/Paris:20250328T220000
DTSTAMP:20260425T032014
CREATED:20240618T235438Z
LAST-MODIFIED:20240618T235438Z
UID:1348-1743192000-1743199200@www.myriamleblanc.net
SUMMARY:Choral Splendours: Bach & Zelenka - Tafelmusik - Toronto
DESCRIPTION:Discover baroque choral treasures by Zelenka and Bach\nAmongst the composers Bach most admired was the Bohemian composer Jan Dismas Zelenka. It was a mutual admiration that was enriched by friendship. This program celebrates that friendship\, pairing a selection of lesser-known\, intimate gems from Bach’s Lutheran cantatas with an extravagant Catholic mass by Zelenka. \nTafelmusik has performed four of the five highly original high Masses Zelenka composed in the final decade of his life. Our performances of the Missa Sanctissimae Trinitatis complete the cycle of these extraordinary works. With its virtuosic demands on the performers\, vivacious rhythms\, eccentric harmonies\, and deep emotional impact\, the Mass bears Zelenka’s unmistakable personal stamp. \nJoining the Tafelmusik Chamber Choir and director Ivars Taurins is the Montreal soprano Myriam Leblanc\, singing a beguiling aria from Bach’s Cantata 150\, and displaying vocal fireworks in the Zelenka Mass.
URL:https://www.myriamleblanc.net/event/choral-splendours-bach-zelenka-tafelmusik-toronto
END:VEVENT
BEGIN:VEVENT
DTSTART;TZID=Europe/Paris:20250329T200000
DTEND;TZID=Europe/Paris:20250329T220000
DTSTAMP:20260425T032014
CREATED:20240618T235605Z
LAST-MODIFIED:20240618T235605Z
UID:1350-1743278400-1743285600@www.myriamleblanc.net
SUMMARY:Choral Splendours: Bach & Zelenka – Tafelmusik – Toronto
DESCRIPTION:Discover baroque choral treasures by Zelenka and Bach\nAmongst the composers Bach most admired was the Bohemian composer Jan Dismas Zelenka. It was a mutual admiration that was enriched by friendship. This program celebrates that friendship\, pairing a selection of lesser-known\, intimate gems from Bach’s Lutheran cantatas with an extravagant Catholic mass by Zelenka. \nTafelmusik has performed four of the five highly original high Masses Zelenka composed in the final decade of his life. Our performances of the Missa Sanctissimae Trinitatis complete the cycle of these extraordinary works. With its virtuosic demands on the performers\, vivacious rhythms\, eccentric harmonies\, and deep emotional impact\, the Mass bears Zelenka’s unmistakable personal stamp. \nJoining the Tafelmusik Chamber Choir and director Ivars Taurins is the Montreal soprano Myriam Leblanc\, singing a beguiling aria from Bach’s Cantata 150\, and displaying vocal fireworks in the Zelenka Mass.
URL:https://www.myriamleblanc.net/event/choral-splendours-bach-zelenka-tafelmusik-toronto-2
LOCATION:Jeanne Lamon Hall\, Trinity-St. Paul’s Centre\, 427 Bloor St W\, Toronto\, Ontario\, Canada
END:VEVENT
BEGIN:VEVENT
DTSTART;TZID=Europe/Paris:20250330T150000
DTEND;TZID=Europe/Paris:20250330T170000
DTSTAMP:20260425T032014
CREATED:20240618T235659Z
LAST-MODIFIED:20240618T235659Z
UID:1352-1743346800-1743354000@www.myriamleblanc.net
SUMMARY:Choral Splendours: Bach & Zelenka – Tafelmusik – Toronto
DESCRIPTION:Discover baroque choral treasures by Zelenka and Bach\nAmongst the composers Bach most admired was the Bohemian composer Jan Dismas Zelenka. It was a mutual admiration that was enriched by friendship. This program celebrates that friendship\, pairing a selection of lesser-known\, intimate gems from Bach’s Lutheran cantatas with an extravagant Catholic mass by Zelenka. \nTafelmusik has performed four of the five highly original high Masses Zelenka composed in the final decade of his life. Our performances of the Missa Sanctissimae Trinitatis complete the cycle of these extraordinary works. With its virtuosic demands on the performers\, vivacious rhythms\, eccentric harmonies\, and deep emotional impact\, the Mass bears Zelenka’s unmistakable personal stamp. \nJoining the Tafelmusik Chamber Choir and director Ivars Taurins is the Montreal soprano Myriam Leblanc\, singing a beguiling aria from Bach’s Cantata 150\, and displaying vocal fireworks in the Zelenka Mass.
URL:https://www.myriamleblanc.net/event/choral-splendours-bach-zelenka-tafelmusik-toronto-3
LOCATION:Jeanne Lamon Hall\, Trinity-St. Paul’s Centre\, 427 Bloor St W\, Toronto\, Ontario\, Canada
END:VEVENT
END:VCALENDAR