BEGIN:VCALENDAR
VERSION:2.0
PRODID:-//Myriam Leblanc - Soprano - ECPv6.15.20//NONSGML v1.0//EN
CALSCALE:GREGORIAN
METHOD:PUBLISH
X-WR-CALNAME:Myriam Leblanc - Soprano
X-ORIGINAL-URL:https://www.myriamleblanc.net
X-WR-CALDESC:Événements pour Myriam Leblanc - Soprano
REFRESH-INTERVAL;VALUE=DURATION:PT1H
X-Robots-Tag:noindex
X-PUBLISHED-TTL:PT1H
BEGIN:VTIMEZONE
TZID:Europe/Paris
BEGIN:DAYLIGHT
TZOFFSETFROM:+0100
TZOFFSETTO:+0200
TZNAME:CEST
DTSTART:20240331T010000
END:DAYLIGHT
BEGIN:STANDARD
TZOFFSETFROM:+0200
TZOFFSETTO:+0100
TZNAME:CET
DTSTART:20241027T010000
END:STANDARD
BEGIN:DAYLIGHT
TZOFFSETFROM:+0100
TZOFFSETTO:+0200
TZNAME:CEST
DTSTART:20250330T010000
END:DAYLIGHT
BEGIN:STANDARD
TZOFFSETFROM:+0200
TZOFFSETTO:+0100
TZNAME:CET
DTSTART:20251026T010000
END:STANDARD
BEGIN:DAYLIGHT
TZOFFSETFROM:+0100
TZOFFSETTO:+0200
TZNAME:CEST
DTSTART:20260329T010000
END:DAYLIGHT
BEGIN:STANDARD
TZOFFSETFROM:+0200
TZOFFSETTO:+0100
TZNAME:CET
DTSTART:20261025T010000
END:STANDARD
END:VTIMEZONE
BEGIN:VEVENT
DTSTART;TZID=Europe/Paris:20250207T193000
DTEND;TZID=Europe/Paris:20250207T213000
DTSTAMP:20260425T044533
CREATED:20250127T233214Z
LAST-MODIFIED:20250127T233214Z
UID:1523-1738956600-1738963800@www.myriamleblanc.net
SUMMARY:L'univers symphonique du cinéma - Hommage à Ennio Morricone
DESCRIPTION:L’Orchestre FILMharmonique est de retour avec une nouvelle édition de sa série acclamée\, L’univers symphonique du cinéma\, avec un hommage spécial au grand compositeur de musique de film\, Ennio Morricone ! Sous la direction de Maestro Francis Choinière\, l’orchestre et chœur interpréteront les partitions de Morricone\, des thèmes émouvants de Mission aux mélodies inoubliables de Le Bon\, la Brute et le Truand\, sans oublier le thème romantique de Cinema Paradiso. Évadez-vous lors d’une soirée au cœur de l’univers sublime d’un des plus grands compositeurs de musique de film de tous les temps !
URL:https://www.myriamleblanc.net/event/lunivers-symphonique-du-cinema-hommage-a-ennio-morricone
LOCATION:Maison Symphonique\, 1600 Rue Saint-Urbain\, Montréal\, Québec\, QC H2X 0S1\, Canada
END:VEVENT
BEGIN:VEVENT
DTSTART;TZID=Europe/Paris:20250208T140000
DTEND;TZID=Europe/Paris:20250208T153000
DTSTAMP:20260425T044533
CREATED:20250127T233329Z
LAST-MODIFIED:20250127T233329Z
UID:1525-1739023200-1739028600@www.myriamleblanc.net
SUMMARY:L'univers symphonique du cinéma - Hommage à Ennio Morricone
DESCRIPTION:L’Orchestre FILMharmonique est de retour avec une nouvelle édition de sa série acclamée\, L’univers symphonique du cinéma\, avec un hommage spécial au grand compositeur de musique de film\, Ennio Morricone ! Sous la direction de Maestro Francis Choinière\, l’orchestre et chœur interpréteront les partitions de Morricone\, des thèmes émouvants de Mission aux mélodies inoubliables de Le Bon\, la Brute et le Truand\, sans oublier le thème romantique de Cinema Paradiso. Évadez-vous lors d’une soirée au cœur de l’univers sublime d’un des plus grands compositeurs de musique de film de tous les temps !
URL:https://www.myriamleblanc.net/event/lunivers-symphonique-du-cinema-hommage-a-ennio-morricone-2
LOCATION:Maison Symphonique\, 1600 Rue Saint-Urbain\, Montréal\, Québec\, QC H2X 0S1\, Canada
END:VEVENT
BEGIN:VEVENT
DTSTART;TZID=Europe/Paris:20250208T193000
DTEND;TZID=Europe/Paris:20250208T210000
DTSTAMP:20260425T044533
CREATED:20250127T233448Z
LAST-MODIFIED:20250127T233448Z
UID:1527-1739043000-1739048400@www.myriamleblanc.net
SUMMARY:L'univers symphonique du cinéma - Hommage à Ennio Morricone
DESCRIPTION:L’Orchestre FILMharmonique est de retour avec une nouvelle édition de sa série acclamée\, L’univers symphonique du cinéma\, avec un hommage spécial au grand compositeur de musique de film\, Ennio Morricone ! Sous la direction de Maestro Francis Choinière\, l’orchestre et chœur interpréteront les partitions de Morricone\, des thèmes émouvants de Mission aux mélodies inoubliables de Le Bon\, la Brute et le Truand\, sans oublier le thème romantique de Cinema Paradiso. Évadez-vous lors d’une soirée au cœur de l’univers sublime d’un des plus grands compositeurs de musique de film de tous les temps !
URL:https://www.myriamleblanc.net/event/lunivers-symphonique-du-cinema-hommage-a-ennio-morricone-3
LOCATION:Maison Symphonique\, 1600 Rue Saint-Urbain\, Montréal\, Québec\, QC H2X 0S1\, Canada
END:VEVENT
BEGIN:VEVENT
DTSTART;TZID=Europe/Paris:20250209T140000
DTEND;TZID=Europe/Paris:20250209T153000
DTSTAMP:20260425T044533
CREATED:20250127T233601Z
LAST-MODIFIED:20250127T233601Z
UID:1529-1739109600-1739115000@www.myriamleblanc.net
SUMMARY:L'univers symphonique du cinéma - Hommage à Ennio Morricone
DESCRIPTION:L’Orchestre FILMharmonique est de retour avec une nouvelle édition de sa série acclamée\, L’univers symphonique du cinéma\, avec un hommage spécial au grand compositeur de musique de film\, Ennio Morricone ! Sous la direction de Maestro Francis Choinière\, l’orchestre et chœur interpréteront les partitions de Morricone\, des thèmes émouvants de Mission aux mélodies inoubliables de Le Bon\, la Brute et le Truand\, sans oublier le thème romantique de Cinema Paradiso. Évadez-vous lors d’une soirée au cœur de l’univers sublime d’un des plus grands compositeurs de musique de film de tous les temps !
URL:https://www.myriamleblanc.net/event/lunivers-symphonique-du-cinema-hommage-a-ennio-morricone-4
LOCATION:Palais Montcalm\, 995 Rue D'Youville\, Québec\, Québec\, G1R 3P1\, Canada
END:VEVENT
BEGIN:VEVENT
DTSTART;TZID=Europe/Paris:20250209T190000
DTEND;TZID=Europe/Paris:20250209T203000
DTSTAMP:20260425T044533
CREATED:20250127T233700Z
LAST-MODIFIED:20250127T233700Z
UID:1531-1739127600-1739133000@www.myriamleblanc.net
SUMMARY:L'univers symphonique du cinéma - Hommage à Ennio Morricone
DESCRIPTION:L’Orchestre FILMharmonique est de retour avec une nouvelle édition de sa série acclamée\, L’univers symphonique du cinéma\, avec un hommage spécial au grand compositeur de musique de film\, Ennio Morricone ! Sous la direction de Maestro Francis Choinière\, l’orchestre et chœur interpréteront les partitions de Morricone\, des thèmes émouvants de Mission aux mélodies inoubliables de Le Bon\, la Brute et le Truand\, sans oublier le thème romantique de Cinema Paradiso. Évadez-vous lors d’une soirée au cœur de l’univers sublime d’un des plus grands compositeurs de musique de film de tous les temps !
URL:https://www.myriamleblanc.net/event/lunivers-symphonique-du-cinema-hommage-a-ennio-morricone-5
LOCATION:Palais Montcalm\, 995 Rue D'Youville\, Québec\, Québec\, G1R 3P1\, Canada
END:VEVENT
BEGIN:VEVENT
DTSTART;TZID=Europe/Paris:20250214T200000
DTEND;TZID=Europe/Paris:20250214T213000
DTSTAMP:20260425T044533
CREATED:20250127T233958Z
LAST-MODIFIED:20250127T233958Z
UID:1533-1739563200-1739568600@www.myriamleblanc.net
SUMMARY:L'univers symphonique du cinéma - Hommage à Ennio Morricone
DESCRIPTION:L’Orchestre FILMharmonique est de retour avec une nouvelle édition de sa série acclamée\, L’univers symphonique du cinéma\, avec un hommage spécial au grand compositeur de musique de film\, Ennio Morricone ! Sous la direction de Maestro Francis Choinière\, l’orchestre et chœur interpréteront les partitions de Morricone\, des thèmes émouvants de Mission aux mélodies inoubliables de Le Bon\, la Brute et le Truand\, sans oublier le thème romantique de Cinema Paradiso. Évadez-vous lors d’une soirée au cœur de l’univers sublime d’un des plus grands compositeurs de musique de film de tous les temps !
URL:https://www.myriamleblanc.net/event/lunivers-symphonique-du-cinema-hommage-a-ennio-morricone-6
LOCATION:Roy Thomson\, 60 Simcoe St\, Toronto\, Ontario\, M5J 2H5\, Canada
END:VEVENT
END:VCALENDAR