BEGIN:VCALENDAR
VERSION:2.0
PRODID:-//Myriam Leblanc - Soprano - ECPv6.15.20//NONSGML v1.0//EN
CALSCALE:GREGORIAN
METHOD:PUBLISH
X-WR-CALNAME:Myriam Leblanc - Soprano
X-ORIGINAL-URL:https://www.myriamleblanc.net
X-WR-CALDESC:Événements pour Myriam Leblanc - Soprano
REFRESH-INTERVAL;VALUE=DURATION:PT1H
X-Robots-Tag:noindex
X-PUBLISHED-TTL:PT1H
BEGIN:VTIMEZONE
TZID:Europe/Paris
BEGIN:DAYLIGHT
TZOFFSETFROM:+0100
TZOFFSETTO:+0200
TZNAME:CEST
DTSTART:20230326T010000
END:DAYLIGHT
BEGIN:STANDARD
TZOFFSETFROM:+0200
TZOFFSETTO:+0100
TZNAME:CET
DTSTART:20231029T010000
END:STANDARD
BEGIN:DAYLIGHT
TZOFFSETFROM:+0100
TZOFFSETTO:+0200
TZNAME:CEST
DTSTART:20240331T010000
END:DAYLIGHT
BEGIN:STANDARD
TZOFFSETFROM:+0200
TZOFFSETTO:+0100
TZNAME:CET
DTSTART:20241027T010000
END:STANDARD
BEGIN:DAYLIGHT
TZOFFSETFROM:+0100
TZOFFSETTO:+0200
TZNAME:CEST
DTSTART:20250330T010000
END:DAYLIGHT
BEGIN:STANDARD
TZOFFSETFROM:+0200
TZOFFSETTO:+0100
TZNAME:CET
DTSTART:20251026T010000
END:STANDARD
END:VTIMEZONE
BEGIN:VEVENT
DTSTART;TZID=Europe/Paris:20240601T193000
DTEND;TZID=Europe/Paris:20240601T213000
DTSTAMP:20260425T164049
CREATED:20240423T163649Z
LAST-MODIFIED:20240423T163649Z
UID:1280-1717270200-1717277400@www.myriamleblanc.net
SUMMARY:Festival Classica- Les sept paroles du Christ - St-Lambert
DESCRIPTION:Afin de souligner le 100e anniversaire de la mort de Théodore Dubois et les 20 ans de l’Ensemble vocal Vox Luminosa\, le Festival Classica est heureux de vous offrir Les sept paroles du Christ\, chef-d’œuvre absolu du maître dans son ultime version pour chœur\, orchestre et solistes. En complément de programme\, le chef et compositeur Claudel Callender vous propose entre autres choses des œuvres de César Franck\, dont le fameux Panis Angelicus et le Psaume 150\, le Cantique de Jean Racine de Gabriel Fauré\, ainsi que quelques œuvres inédites du directeur de l’ensemble vocal.
URL:https://www.myriamleblanc.net/event/festival-classica-les-sept-paroles-du-christ-st-lambert
LOCATION:Paroisse catholique de Saint-Lambert\, 41\, av. Lorne\, St-Lambert\, J4P 2G7\, Canada
END:VEVENT
BEGIN:VEVENT
DTSTART;TZID=Europe/Paris:20240607T193000
DTEND;TZID=Europe/Paris:20240607T213000
DTSTAMP:20260425T164049
CREATED:20240423T164101Z
LAST-MODIFIED:20240423T164101Z
UID:1282-1717788600-1717795800@www.myriamleblanc.net
SUMMARY:OPCM - Requiem de Dompierre et de Fauré - Montréal
DESCRIPTION:Vous profiterez d’une belle soirée de musique chorale avec le Requiem de Fauré et la première mondiale du Requiem de François Dompierre. Vous découvrirez ces deux œuvres dans toute leur splendeur\, dans une magnifique interprétation par l’Orchestre Philharmonique et Chœur des Mélomanes sous la direction de Francis Choinière. \nGabriel Fauré\, Requiem\n_\nFrançois Dompierre\, Requiem
URL:https://www.myriamleblanc.net/event/opcm-requiem-de-dompierre-et-de-faure-montreal
LOCATION:Maison Symphonique\, 1600 Rue Saint-Urbain\, Montréal\, Québec\, QC H2X 0S1\, Canada
END:VEVENT
BEGIN:VEVENT
DTSTART;TZID=Europe/Paris:20240608T193000
DTEND;TZID=Europe/Paris:20240608T213000
DTSTAMP:20260425T164049
CREATED:20240423T164207Z
LAST-MODIFIED:20240423T164207Z
UID:1284-1717875000-1717882200@www.myriamleblanc.net
SUMMARY:OPCM – Requiem de Dompierre et de Fauré – Montréal
DESCRIPTION:Vous profiterez d’une belle soirée de musique chorale avec le Requiem de Fauré et la première mondiale du Requiem de François Dompierre. Vous découvrirez ces deux œuvres dans toute leur splendeur\, dans une magnifique interprétation par l’Orchestre Philharmonique et Chœur des Mélomanes sous la direction de Francis Choinière. \nGabriel Fauré\, Requiem\n_\nFrançois Dompierre\, Requiem
URL:https://www.myriamleblanc.net/event/opcm-requiem-de-dompierre-et-de-faure-montreal-2
LOCATION:Maison Symphonique\, 1600 Rue Saint-Urbain\, Montréal\, Québec\, QC H2X 0S1\, Canada
END:VEVENT
BEGIN:VEVENT
DTSTART;TZID=Europe/Paris:20240609T140000
DTEND;TZID=Europe/Paris:20240609T170000
DTSTAMP:20260425T164049
CREATED:20240423T164303Z
LAST-MODIFIED:20240423T164310Z
UID:1286-1717941600-1717952400@www.myriamleblanc.net
SUMMARY:OPCM – Requiem de Dompierre et de Fauré – Québec
DESCRIPTION:Vous profiterez d’une belle soirée de musique chorale avec le Requiem de Fauré et la première mondiale du Requiem de François Dompierre. Vous découvrirez ces deux œuvres dans toute leur splendeur\, dans une magnifique interprétation par l’Orchestre Philharmonique et Chœur des Mélomanes sous la direction de Francis Choinière. \nGabriel Fauré\, Requiem\n_\nFrançois Dompierre\, Requiem
URL:https://www.myriamleblanc.net/event/opcm-requiem-de-dompierre-et-de-faure-montreal-3
LOCATION:Palais Montcalm\, 995 Rue D'Youville\, Québec\, Québec\, G1R 3P1\, Canada
END:VEVENT
END:VCALENDAR