BEGIN:VCALENDAR
VERSION:2.0
PRODID:-//Myriam Leblanc - Soprano - ECPv6.15.20//NONSGML v1.0//EN
CALSCALE:GREGORIAN
METHOD:PUBLISH
X-ORIGINAL-URL:https://www.myriamleblanc.net
X-WR-CALDESC:Événements pour Myriam Leblanc - Soprano
REFRESH-INTERVAL;VALUE=DURATION:PT1H
X-Robots-Tag:noindex
X-PUBLISHED-TTL:PT1H
BEGIN:VTIMEZONE
TZID:Europe/Paris
BEGIN:DAYLIGHT
TZOFFSETFROM:+0100
TZOFFSETTO:+0200
TZNAME:CEST
DTSTART:20230326T010000
END:DAYLIGHT
BEGIN:STANDARD
TZOFFSETFROM:+0200
TZOFFSETTO:+0100
TZNAME:CET
DTSTART:20231029T010000
END:STANDARD
BEGIN:DAYLIGHT
TZOFFSETFROM:+0100
TZOFFSETTO:+0200
TZNAME:CEST
DTSTART:20240331T010000
END:DAYLIGHT
BEGIN:STANDARD
TZOFFSETFROM:+0200
TZOFFSETTO:+0100
TZNAME:CET
DTSTART:20241027T010000
END:STANDARD
BEGIN:DAYLIGHT
TZOFFSETFROM:+0100
TZOFFSETTO:+0200
TZNAME:CEST
DTSTART:20250330T010000
END:DAYLIGHT
BEGIN:STANDARD
TZOFFSETFROM:+0200
TZOFFSETTO:+0100
TZNAME:CET
DTSTART:20251026T010000
END:STANDARD
END:VTIMEZONE
BEGIN:VEVENT
DTSTART;TZID=Europe/Paris:20240209T200000
DTEND;TZID=Europe/Paris:20240209T220000
DTSTAMP:20260425T221129
CREATED:20230811T144808Z
LAST-MODIFIED:20230811T144808Z
UID:1145-1707508800-1707516000@www.myriamleblanc.net
SUMMARY:Dis\, quand reviendras-tu? - Mirabilia - Aramusique
DESCRIPTION:La soprano Myriam Leblanc\, accompagnée de Grégoire Jeay à la flûte\, de Sylvain Bergeron à la guitare et à l’archiluth et d’Antoine Malette-Chénier à la harpe\, vous propose des chansons baroque et moderne sur le thème éternel de l’amour. Un voyage en musique où les poètes et compositeurs de toutes les époques et de différents pays se rejoignent dans cette magnifique folie qui les a tant inspirés. \nL’amour\, sans frontières temporelles\, offre un passeport à la musique pour s’exprimer dans tous ses états et ses couleurs caractéristiques\, donnant ainsi à l’auditeur l’occasion de goûter des œuvres qui n’ont rien en commun de prime abord\, mais qui sont réunies par cette thématique universelle et ces instruments particuliers. \n\n\n\n\n\n\n\n\nArtistes : \nMyriam Leblanc\, soprano \nSylvain Bergeron\, archiluth et guitare baroque \nGrégoire Jeay\, flûte baroque \nAntoine Malette-Chénier\, harpe
URL:https://www.myriamleblanc.net/event/dis-quand-reviendras-tu-mirabilia-aramusique
LOCATION:Théatre Alphonse-Desjardins\, 25 All. de la Création\, Repentigny\, Québec\, Canada
END:VEVENT
BEGIN:VEVENT
DTSTART;TZID=Europe/Paris:20240210T200000
DTEND;TZID=Europe/Paris:20240210T220000
DTSTAMP:20260425T221129
CREATED:20230811T145209Z
LAST-MODIFIED:20240119T021629Z
UID:1148-1707595200-1707602400@www.myriamleblanc.net
SUMMARY:Dis\, quand reviendras-tu? - Mirabilia - Brownsburg-Chatham
DESCRIPTION:La soprano Myriam Leblanc\, accompagnée de Grégoire Jeay à la flûte et de Sylvain Bergeron à la guitare et à l’archiluth\, vous propose des chansons baroque et moderne sur le thème éternel de l’amour. Un voyage en musique où les poètes et compositeurs de toutes les époques et de différents pays se rejoignent dans cette magnifique folie qui les a tant inspirés. \nL’amour\, sans frontières temporelles\, offre un passeport à la musique pour s’exprimer dans tous ses états et ses couleurs caractéristiques\, donnant ainsi à l’auditeur l’occasion de goûter des œuvres qui n’ont rien en commun de prime abord\, mais qui sont réunies par cette thématique universelle et ces instruments particuliers. \n\n\n\n\n\n\n\n\nArtistes : \nMyriam Leblanc\, soprano \nSylvain Bergeron\, archiluth et guitare baroque \nGrégoire Jeay\, flûte baroque
URL:https://www.myriamleblanc.net/event/dis-quand-reviendras-tu-mirabilia-brownsburg-chatham
LOCATION:Espace Culturel St-Gilles\, 562\, route des Outaouais\, Brownsburg-Chatham\, Québec\, J8G 1V2\, Canada
END:VEVENT
BEGIN:VEVENT
DTSTART;TZID=Europe/Paris:20240216T193000
DTEND;TZID=Europe/Paris:20240216T213000
DTSTAMP:20260425T221129
CREATED:20230811T145526Z
LAST-MODIFIED:20230811T145526Z
UID:1150-1708111800-1708119000@www.myriamleblanc.net
SUMMARY:Eterno ritorno - EMV and Mirabilia - Vancouver
DESCRIPTION:Artists: Myriam Leblanc\, soprano\, Grégoire Jeay\, flute\, Chloe Meyers\, violin; Mélisande Corriveau\, bass viol\, Antoine Malette-Chénier\, baroque harp and Alexander Weimann\, keyboard \nChaconnes and passacaglias have their roots in popular tradition and have inspired hundreds of compositions since the 16th century. One of the peculiarities of this genre is its decidedly sensual aspect\, with the repeated bass causing a certain trance. The improvised character of these pieces are conducive to expressing all kinds of affects\, moods and colours\, and provide the perfect canvas for the magnificent voice\, strong stage presence and incredible charisma of soprano Myriam Leblanc. Of the many composers presented\, you’ll delight in the works of Monteverdi\, Vivaldi\, Legrenzi\, Merula and Rossi and a newly composed chaconne by Grégoire Jeay for flute\, violin and basso continuo.
URL:https://www.myriamleblanc.net/event/eterno-ritorno-emv-and-mirabilia-vancouver
LOCATION:Christ Church Cathedral\, 690 Burrard St\, Vancouver\, V6C 2L1\, Canada
END:VEVENT
BEGIN:VEVENT
DTSTART;TZID=Europe/Paris:20240217T193000
DTEND;TZID=Europe/Paris:20240217T193000
DTSTAMP:20260425T221129
CREATED:20230811T151825Z
LAST-MODIFIED:20230811T151825Z
UID:1157-1708198200-1708198200@www.myriamleblanc.net
SUMMARY:Eterno ritorno - Early music society of the islands - Victoria (B.C)
DESCRIPTION:L’Eterno Ritorno \nTickets on sale now.\n \nBrilliant Canadian soprano\, Myriam Leblanc is featured in a program devoted to that most captivating and tuneful Baroque musical form: the chaconne. \nBuilt on ostinato basses\, grounds\, chaconnes and passacaglia have inspired most composers since the 16th century and have allowed the generation of hundreds of arias and instrumental pieces.\n \nThe improvised character of this dance allows within the same piece to cross all the times\, all kinds of characters and various weather conditions. One of the peculiarities of this genre is its decidedly sensual aspect\, with its roots in popular tradition\, the repeated bass causing a certain trance. \nMusicians: \nEnsemble Mirabilia:\nMyriam Leblanc\, sopranoGrégoire Jeay\, flutes\, percussionsChloe Myers\, baroque violinAntoine Malette-Chénier\, baroque harpMélisande Corriveau\, baroque celloAlexander Weimann\, positive organ\, harpsichord
URL:https://www.myriamleblanc.net/event/eterno-ritorno-early-music-society-of-the-islands-victoria-b-c
LOCATION:First Church of Christ\, Scientist\, 1205 Pandora Avenue\, Victoria\, Colombie-Britannique\, Canada
END:VEVENT
BEGIN:VEVENT
DTSTART;TZID=Europe/Paris:20240218T140000
DTEND;TZID=Europe/Paris:20240218T170000
DTSTAMP:20260425T221129
CREATED:20230811T153315Z
LAST-MODIFIED:20230811T153315Z
UID:1164-1708264800-1708275600@www.myriamleblanc.net
SUMMARY:Luce e ombra - Salt Spring Island - B.C.
DESCRIPTION:Le projet Luce e Ombra\, « Lumière et Ombre »\, réunit des œuvres d’Antonio Vivaldi. Le programme de ce concert est à son image\, tout en contrastes : clair-obscur\, tristesse-gaieté\, désarroi-joie exubérante. \nLa soprano Myriam Leblanc transmet tout son talent et son expressivité au service de ce répertoire qui lui sied exceptionnellement bien. Elle est accompagnée des trois musiciens Grégoire Jeay (flûtes)\, Antoine Malette-Chénier (harpe baroque) et Mélisande Corriveau (violoncelle) de l’Ensemble Mirabilia. \nMyriam Leblanc\, soprano \nGrégoire Jeay\, flûtes/flutes \nAntoine Malette-Chénier\, harpe baroque/baroque harp \nMélisande Corriveau\, violoncelle/cello
URL:https://www.myriamleblanc.net/event/luce-e-ombra-salt-spring-island-b-c
LOCATION:Art Spring\, 100 Jackson Avenue\, Salt Spring Island\, Colombie-Britannique\, Canada
END:VEVENT
BEGIN:VEVENT
DTSTART;TZID=Europe/Paris:20240224T140000
DTEND;TZID=Europe/Paris:20240224T170000
DTSTAMP:20260425T221129
CREATED:20230811T152116Z
LAST-MODIFIED:20230811T152116Z
UID:1160-1708783200-1708794000@www.myriamleblanc.net
SUMMARY:Carmen - OPCM - Maison Symphonique
DESCRIPTION:Laissez-vous transporter par les somptueuses mélodies françaises pour une soirée de drame et de passion avec l’OpéraCarmen. L’Orchestre Philharmonique et Chœur des Mélomanes (OPCM) présente ce chef-d’œuvre de Bizet en version concert avec Wallis Giunta (Carmen) et Adrian Kramer (Don José)\, dans une tragédie amoureuse inoubliable. Ils seront accompagnés par 60 musiciens et 120 choristes de l’OPCM et des Petits Chanteurs de Mont-Royal sous la direction de Francis Choinière. \n  \nProgramme: Carmen(version concert) – Georges Bizet \n  \nChef d’orchestre :Francis Choinière \nChorale d’enfants : Petits Chanteurs du Mont-Royal \nChef de choeur : Andrew Gray \nCarmen – Wallis Giunta \nDon José – Adrian Kramer \nEscamillo – Hugo Laporte \nMicaëla – Myriam LeBlanc \nZuniga – Alain Coulombe \nLe Dancaire et Moralès – Geoffrey Schellenberg \nLe Remendado – Samuel Champagne \nMercédès – Florence Bourget \nFrasquita – Catherine St-Arnaud \n  \nDurée (160 minutes – avec entracte)
URL:https://www.myriamleblanc.net/event/carmen-opcm-maison-symphonique
LOCATION:Maison Symphonique\, 1600 Rue Saint-Urbain\, Montréal\, Québec\, QC H2X 0S1\, Canada
END:VEVENT
BEGIN:VEVENT
DTSTART;TZID=Europe/Paris:20240225T140000
DTEND;TZID=Europe/Paris:20240225T170000
DTSTAMP:20260425T221129
CREATED:20240119T021522Z
LAST-MODIFIED:20240119T021522Z
UID:1218-1708869600-1708880400@www.myriamleblanc.net
SUMMARY:Carmen - OPCM - Maison Symphonique
DESCRIPTION:Laissez-vous transporter par les somptueuses mélodies françaises pour une soirée de drame et de passion avec l’OpéraCarmen. L’Orchestre Philharmonique et Chœur des Mélomanes (OPCM) présente ce chef-d’œuvre de Bizet en version concert avec Wallis Giunta (Carmen) et Adrian Kramer (Don José)\, dans une tragédie amoureuse inoubliable. Ils seront accompagnés par 60 musiciens et 120 choristes de l’OPCM et des Petits Chanteurs de Mont-Royal sous la direction de Francis Choinière. \n  \nProgramme: Carmen(version concert) – Georges Bizet \n  \nChef d’orchestre :Francis Choinière \nChorale d’enfants : Petits Chanteurs du Mont-Royal \nChef de choeur : Andrew Gray \nCarmen – Wallis Giunta \nDon José – Adrian Kramer \nEscamillo – Hugo Laporte \nMicaëla – Myriam LeBlanc \nZuniga – Alain Coulombe \nLe Dancaire et Moralès – Geoffrey Schellenberg \nLe Remendado – Samuel Champagne \nMercédès – Florence Bourget \nFrasquita – Catherine St-Arnaud \n  \nDurée (160 minutes – avec entracte)
URL:https://www.myriamleblanc.net/event/carmen-opcm-maison-symphonique-2
LOCATION:Maison Symphonique\, 1600 Rue Saint-Urbain\, Montréal\, Québec\, QC H2X 0S1\, Canada
END:VEVENT
END:VCALENDAR