BEGIN:VCALENDAR
VERSION:2.0
PRODID:-//Myriam Leblanc - Soprano - ECPv6.15.20//NONSGML v1.0//EN
CALSCALE:GREGORIAN
METHOD:PUBLISH
X-ORIGINAL-URL:https://www.myriamleblanc.net
X-WR-CALDESC:Événements pour Myriam Leblanc - Soprano
REFRESH-INTERVAL;VALUE=DURATION:PT1H
X-Robots-Tag:noindex
X-PUBLISHED-TTL:PT1H
BEGIN:VTIMEZONE
TZID:Europe/Paris
BEGIN:DAYLIGHT
TZOFFSETFROM:+0100
TZOFFSETTO:+0200
TZNAME:CEST
DTSTART:20220327T010000
END:DAYLIGHT
BEGIN:STANDARD
TZOFFSETFROM:+0200
TZOFFSETTO:+0100
TZNAME:CET
DTSTART:20221030T010000
END:STANDARD
BEGIN:DAYLIGHT
TZOFFSETFROM:+0100
TZOFFSETTO:+0200
TZNAME:CEST
DTSTART:20230326T010000
END:DAYLIGHT
BEGIN:STANDARD
TZOFFSETFROM:+0200
TZOFFSETTO:+0100
TZNAME:CET
DTSTART:20231029T010000
END:STANDARD
BEGIN:DAYLIGHT
TZOFFSETFROM:+0100
TZOFFSETTO:+0200
TZNAME:CEST
DTSTART:20240331T010000
END:DAYLIGHT
BEGIN:STANDARD
TZOFFSETFROM:+0200
TZOFFSETTO:+0100
TZNAME:CET
DTSTART:20241027T010000
END:STANDARD
END:VTIMEZONE
BEGIN:VEVENT
DTSTART;TZID=Europe/Paris:20231022T150000
DTEND;TZID=Europe/Paris:20231022T170000
DTSTAMP:20260426T034110
CREATED:20230810T155219Z
LAST-MODIFIED:20230810T155219Z
UID:1124-1697986800-1697994000@www.myriamleblanc.net
SUMMARY:Ariella et le Concerto pour piano no.  2 de Rachmaninoff - Francis Choinière et Jaap Nico Hamburger
DESCRIPTION:Ensemble Classico-Moderne Chef d’orchestre : Francis Choinière | Pianiste : Jean-Philippe Sylvestre Compositeur : Jaap Nico Hamburger | Livret : Thomas Beijer Solistes : Aline Kutan\, Sarah (mère) | Myriam Leblanc\, Ariella (fille) | Gideon Zelermyer\, David (père) | Enzo Sabbagha\, Ezra (fils)
URL:https://www.myriamleblanc.net/event/ariella-et-le-concerto-pour-piano-no-2-de-rachmaninoff-francis-choiniere-et-jaap-nico-hamburger
LOCATION:Koerner Hall\, 273 Bloor Street West\, Toronto\, Ontario\, Canada
END:VEVENT
BEGIN:VEVENT
DTSTART;TZID=Europe/Paris:20231028T193000
DTEND;TZID=Europe/Paris:20231028T213000
DTSTAMP:20260426T034110
CREATED:20230810T155316Z
LAST-MODIFIED:20230810T155316Z
UID:1127-1698521400-1698528600@www.myriamleblanc.net
SUMMARY:Ariella et le Concerto pour piano no.  2 de Rachmaninoff - Francis Choinière et Jaap Nico Hamburger
DESCRIPTION:Ensemble Classico-Moderne Chef d’orchestre : Francis Choinière | Pianiste : Jean-Philippe Sylvestre Compositeur : Jaap Nico Hamburger | Livret : Thomas Beijer Solistes : Aline Kutan\, Sarah (mère) | Myriam Leblanc\, Ariella (fille) | Gideon Zelermyer\, David (père) | Enzo Sabbagha\, Ezra (fils)
URL:https://www.myriamleblanc.net/event/ariella-et-le-concerto-pour-piano-no-2-de-rachmaninoff-francis-choiniere-et-jaap-nico-hamburger-2
LOCATION:Maison Symphonique\, 1600 Rue Saint-Urbain\, Montréal\, Québec\, QC H2X 0S1\, Canada
END:VEVENT
BEGIN:VEVENT
DTSTART;TZID=Europe/Paris:20231029T140000
DTEND;TZID=Europe/Paris:20231029T160000
DTSTAMP:20260426T034110
CREATED:20230810T155408Z
LAST-MODIFIED:20230810T155421Z
UID:1129-1698588000-1698595200@www.myriamleblanc.net
SUMMARY:Ariella et le Concerto pour piano no.  2 de Rachmaninoff - Francis Choinière et Jaap Nico Hamburger
DESCRIPTION:Ensemble Classico-Moderne Chef d’orchestre : Francis Choinière | Pianiste : Jean-Philippe Sylvestre Compositeur : Jaap Nico Hamburger | Livret : Thomas Beijer Solistes : Aline Kutan\, Sarah (mère) | Myriam Leblanc\, Ariella (fille) | Gideon Zelermyer\, David (père) | Enzo Sabbagha\, Ezra (fils)
URL:https://www.myriamleblanc.net/event/ariella-et-le-concerto-pour-piano-no-2-de-rachmaninoff-francis-choiniere-et-jaap-nico-hamburger-3
LOCATION:Palais Montcalm\, 995 Rue D'Youville\, Québec\, Québec\, G1R 3P1\, Canada
END:VEVENT
END:VCALENDAR