BEGIN:VCALENDAR
VERSION:2.0
PRODID:-//Myriam Leblanc - Soprano - ECPv6.15.20//NONSGML v1.0//EN
CALSCALE:GREGORIAN
METHOD:PUBLISH
X-ORIGINAL-URL:https://www.myriamleblanc.net
X-WR-CALDESC:Événements pour Myriam Leblanc - Soprano
REFRESH-INTERVAL;VALUE=DURATION:PT1H
X-Robots-Tag:noindex
X-PUBLISHED-TTL:PT1H
BEGIN:VTIMEZONE
TZID:Europe/Paris
BEGIN:DAYLIGHT
TZOFFSETFROM:+0100
TZOFFSETTO:+0200
TZNAME:CEST
DTSTART:20250330T010000
END:DAYLIGHT
BEGIN:STANDARD
TZOFFSETFROM:+0200
TZOFFSETTO:+0100
TZNAME:CET
DTSTART:20251026T010000
END:STANDARD
BEGIN:DAYLIGHT
TZOFFSETFROM:+0100
TZOFFSETTO:+0200
TZNAME:CEST
DTSTART:20260329T010000
END:DAYLIGHT
BEGIN:STANDARD
TZOFFSETFROM:+0200
TZOFFSETTO:+0100
TZNAME:CET
DTSTART:20261025T010000
END:STANDARD
BEGIN:DAYLIGHT
TZOFFSETFROM:+0100
TZOFFSETTO:+0200
TZNAME:CEST
DTSTART:20270328T010000
END:DAYLIGHT
BEGIN:STANDARD
TZOFFSETFROM:+0200
TZOFFSETTO:+0100
TZNAME:CET
DTSTART:20271031T010000
END:STANDARD
END:VTIMEZONE
BEGIN:VEVENT
DTSTART;TZID=Europe/Paris:20260425T193000
DTEND;TZID=Europe/Paris:20260425T213000
DTSTAMP:20260424T023233
CREATED:20250708T012152Z
LAST-MODIFIED:20250708T012152Z
UID:1641-1777145400-1777152600@www.myriamleblanc.net
SUMMARY:Requiem de Dompierre - OSTR- Trois-Rivières
DESCRIPTION:Pour la première fois à Trois-Rivières\, la nouvelle œuvre de grand compositeur québécois François Dompierre sera présentée dans toute sa puissance et sa sensibilité. Cette création exceptionnelle prendra vie grâce à un trio de solistes fabuleux\, Myriam Leblanc\, soprano\, Andrew Haji\, ténor et Geoffroy Salvas\, baryton\, accompagnés du Chœur de l’OSTR. \nUn rendez-vous empreint d’émotion et de grandeur\, à ne pas manquer pour les amoureux de musique d’ici.
URL:https://www.myriamleblanc.net/event/requiem-de-dompierre-ostr-trois-rivieres
LOCATION:Cathédrale de l’Assomption de Trois-Rivières\, 362 Rue Bonaventure\, Trois-Rivières\, Canada
END:VEVENT
BEGIN:VEVENT
DTSTART;TZID=Europe/Paris:20260429T193000
DTEND;TZID=Europe/Paris:20260429T213000
DTSTAMP:20260424T023233
CREATED:20250708T012353Z
LAST-MODIFIED:20250708T012353Z
UID:1644-1777491000-1777498200@www.myriamleblanc.net
SUMMARY:Dixit Dominus - Violons du Roy - Québec
DESCRIPTION:Un rendez-vous avec le sublime Dixit Dominus de Handel dont la virtuosité vocale et la puissance de l’expression musicale en font l’une des plus grandes réussites chorales du compositeur. Le motet Jesu\, meine Freude de Bach appartient lui aussi au plus beau répertoire sacré de toute l’époque baroque. En ouverture\, un bref et très poignant motet du prédécesseur de Bach à l’église Saint-Thomas de Leipzig.
URL:https://www.myriamleblanc.net/event/dixit-dominus-violons-du-roy-quebec
LOCATION:Palais Montcalm\, 995 Rue D'Youville\, Québec\, Québec\, G1R 3P1\, Canada
END:VEVENT
BEGIN:VEVENT
DTSTART;TZID=Europe/Paris:20260430T193000
DTEND;TZID=Europe/Paris:20260430T213000
DTSTAMP:20260424T023233
CREATED:20250708T012510Z
LAST-MODIFIED:20250708T012510Z
UID:1646-1777577400-1777584600@www.myriamleblanc.net
SUMMARY:Dixit Dominus – Violons du Roy – Québec
DESCRIPTION:Un rendez-vous avec le sublime Dixit Dominus de Handel dont la virtuosité vocale et la puissance de l’expression musicale en font l’une des plus grandes réussites chorales du compositeur. Le motet Jesu\, meine Freude de Bach appartient lui aussi au plus beau répertoire sacré de toute l’époque baroque. En ouverture\, un bref et très poignant motet du prédécesseur de Bach à l’église Saint-Thomas de Leipzig.
URL:https://www.myriamleblanc.net/event/dixit-dominus-violons-du-roy-quebec-2
LOCATION:Palais Montcalm\, 995 Rue D'Youville\, Québec\, Québec\, G1R 3P1\, Canada
END:VEVENT
BEGIN:VEVENT
DTSTART;TZID=Europe/Paris:20260503T160000
DTEND;TZID=Europe/Paris:20260503T180000
DTSTAMP:20260424T023233
CREATED:20250708T012615Z
LAST-MODIFIED:20250708T012615Z
UID:1648-1777824000-1777831200@www.myriamleblanc.net
SUMMARY:Dixit Dominus – Violons du Roy – Montréal
DESCRIPTION:Un rendez-vous avec le sublime Dixit Dominus de Handel dont la virtuosité vocale et la puissance de l’expression musicale en font l’une des plus grandes réussites chorales du compositeur. Le motet Jesu\, meine Freude de Bach appartient lui aussi au plus beau répertoire sacré de toute l’époque baroque. En ouverture\, un bref et très poignant motet du prédécesseur de Bach à l’église Saint-Thomas de Leipzig.
URL:https://www.myriamleblanc.net/event/dixit-dominus-violons-du-roy-montreal
LOCATION:Maison Symphonique\, 1600 Rue Saint-Urbain\, Montréal\, Québec\, QC H2X 0S1\, Canada
END:VEVENT
BEGIN:VEVENT
DTSTART;TZID=Europe/Paris:20260508T200000
DTEND;TZID=Europe/Paris:20260508T220000
DTSTAMP:20260424T023233
CREATED:20250708T012802Z
LAST-MODIFIED:20250708T012802Z
UID:1650-1778270400-1778277600@www.myriamleblanc.net
SUMMARY:Chante rossignol\, chante - Aramusique - Repentigny
DESCRIPTION:Plongez dans un voyage musical où le passé et le présent se rencontrent avec élégance.\nCe concert inédit vous propose un dialogue envoûtant entre les grandes chansons françaises contemporaines\, réarrangées pour des instruments d’époque\, et les airs majestueux de l’opéra. Redécouvrez la puissance des mots et des mélodies dans un écrin sonore unique\, où harpe\, viole et flûte baroque accompagnent la magnifique voix de Myriam Leblanc et révèlent des couleurs nouvelles aux succès modernes. Une expérience audacieuse et raffinée qui célèbre la richesse de notre patrimoine musical\, de Carmen à Joe Dassin\, entre tradition et réinvention.
URL:https://www.myriamleblanc.net/event/chante-rossignol-chante-aramusique-repentigny
LOCATION:Théatre Alphonse-Desjardins\, 25 All. de la Création\, Repentigny\, Québec\, Canada
END:VEVENT
END:VCALENDAR