BEGIN:VCALENDAR
VERSION:2.0
PRODID:-//Myriam Leblanc - Soprano - ECPv6.15.20//NONSGML v1.0//EN
CALSCALE:GREGORIAN
METHOD:PUBLISH
X-ORIGINAL-URL:https://www.myriamleblanc.net
X-WR-CALDESC:Événements pour Myriam Leblanc - Soprano
REFRESH-INTERVAL;VALUE=DURATION:PT1H
X-Robots-Tag:noindex
X-PUBLISHED-TTL:PT1H
BEGIN:VTIMEZONE
TZID:Europe/Paris
BEGIN:DAYLIGHT
TZOFFSETFROM:+0100
TZOFFSETTO:+0200
TZNAME:CEST
DTSTART:20250330T010000
END:DAYLIGHT
BEGIN:STANDARD
TZOFFSETFROM:+0200
TZOFFSETTO:+0100
TZNAME:CET
DTSTART:20251026T010000
END:STANDARD
BEGIN:DAYLIGHT
TZOFFSETFROM:+0100
TZOFFSETTO:+0200
TZNAME:CEST
DTSTART:20260329T010000
END:DAYLIGHT
BEGIN:STANDARD
TZOFFSETFROM:+0200
TZOFFSETTO:+0100
TZNAME:CET
DTSTART:20261025T010000
END:STANDARD
BEGIN:DAYLIGHT
TZOFFSETFROM:+0100
TZOFFSETTO:+0200
TZNAME:CEST
DTSTART:20270328T010000
END:DAYLIGHT
BEGIN:STANDARD
TZOFFSETFROM:+0200
TZOFFSETTO:+0100
TZNAME:CET
DTSTART:20271031T010000
END:STANDARD
END:VTIMEZONE
BEGIN:VEVENT
DTSTART;TZID=Europe/Paris:20260412T160000
DTEND;TZID=Europe/Paris:20260412T180000
DTSTAMP:20260424T090545
CREATED:20260115T185223Z
LAST-MODIFIED:20260115T185223Z
UID:1688-1776009600-1776016800@www.myriamleblanc.net
SUMMARY:Festival de la voix – les plus beaux airs! - Montréal - Mirabilia
DESCRIPTION:À la mémoire d’Eugénie (Jean) Low\n\n\n\n\n\n\n\n\n\n\nMyriam Leblanc\, l’une des sopranos les plus sublimes du Canada\, fait étalage de sa voix fabuleuse et de sa remarquable polyvalence alors qu’elle interprète\, en compagnie du Trio Mirabilia et du flûtiste baroque Grégoire Jeay\, une somptueuse sélection d’œuvres allant d’Antonio Vivaldi à Barbara. \nCe concert s’ouvre sur un programme d’œuvres chorales interprétées par le Chœur du secteur Musique-études secondaire de l’École de musique Vincent-d’Indy\, sous la direction du musicien impressionnant et polyvalent François Ouimet.
URL:https://www.myriamleblanc.net/event/festival-de-la-voix-les-plus-beaux-airs-montreal-mirabilia
LOCATION:Paroisse Veronica\, 1300 Ave Carson\, Dorval\, Canada
END:VEVENT
END:VCALENDAR