BEGIN:VCALENDAR
VERSION:2.0
PRODID:-//Myriam Leblanc - Soprano - ECPv6.15.20//NONSGML v1.0//EN
CALSCALE:GREGORIAN
METHOD:PUBLISH
X-WR-CALNAME:Myriam Leblanc - Soprano
X-ORIGINAL-URL:https://www.myriamleblanc.net
X-WR-CALDESC:Événements pour Myriam Leblanc - Soprano
REFRESH-INTERVAL;VALUE=DURATION:PT1H
X-Robots-Tag:noindex
X-PUBLISHED-TTL:PT1H
BEGIN:VTIMEZONE
TZID:Europe/Paris
BEGIN:DAYLIGHT
TZOFFSETFROM:+0100
TZOFFSETTO:+0200
TZNAME:CEST
DTSTART:20250330T010000
END:DAYLIGHT
BEGIN:STANDARD
TZOFFSETFROM:+0200
TZOFFSETTO:+0100
TZNAME:CET
DTSTART:20251026T010000
END:STANDARD
BEGIN:DAYLIGHT
TZOFFSETFROM:+0100
TZOFFSETTO:+0200
TZNAME:CEST
DTSTART:20260329T010000
END:DAYLIGHT
BEGIN:STANDARD
TZOFFSETFROM:+0200
TZOFFSETTO:+0100
TZNAME:CET
DTSTART:20261025T010000
END:STANDARD
BEGIN:DAYLIGHT
TZOFFSETFROM:+0100
TZOFFSETTO:+0200
TZNAME:CEST
DTSTART:20270328T010000
END:DAYLIGHT
BEGIN:STANDARD
TZOFFSETFROM:+0200
TZOFFSETTO:+0100
TZNAME:CET
DTSTART:20271031T010000
END:STANDARD
END:VTIMEZONE
BEGIN:VEVENT
DTSTART;TZID=Europe/Paris:20260403T193000
DTEND;TZID=Europe/Paris:20260403T220000
DTSTAMP:20260424T090427
CREATED:20260202T194956Z
LAST-MODIFIED:20260202T194956Z
UID:1692-1775244600-1775253600@www.myriamleblanc.net
SUMMARY:Messe en Si de Bach - Kitchener-Waterloo
DESCRIPTION:Bach’s Mass in B minor stands as one of the greatest achievements in Western music: the summation of a life’s work. Written near the end of Bach’s life\, it gathers the breadth of his musical genius into a single\, breathtaking composition. From the joyful dance of the “Gloria” to the profound cry for peace in the “Agnus Dei\,” the Mass is a journey through awe\, devotion\, and profound expression\, uniting soloists\, choir\, and orchestra in music of timeless and universal power. \nMyriam Leblanc\, soprano\nKate Maroney\, mezzo-soprano\nMichael Colvin\, tenor\nTyler Duncan\, baritone\nGrand Philharmonic Choir\nKitchener-Waterloo Symphony\nMark Vuorinen\, conductor
URL:https://www.myriamleblanc.net/event/messe-en-si-de-bach-kitchener-waterloo
LOCATION:Centre in the square\, 101 Queen Street North\, Kitchener
END:VEVENT
END:VCALENDAR