BEGIN:VCALENDAR
VERSION:2.0
PRODID:-//Myriam Leblanc - Soprano - ECPv6.15.20//NONSGML v1.0//EN
CALSCALE:GREGORIAN
METHOD:PUBLISH
X-ORIGINAL-URL:https://www.myriamleblanc.net
X-WR-CALDESC:Événements pour Myriam Leblanc - Soprano
REFRESH-INTERVAL;VALUE=DURATION:PT1H
X-Robots-Tag:noindex
X-PUBLISHED-TTL:PT1H
BEGIN:VTIMEZONE
TZID:Europe/Paris
BEGIN:DAYLIGHT
TZOFFSETFROM:+0100
TZOFFSETTO:+0200
TZNAME:CEST
DTSTART:20250330T010000
END:DAYLIGHT
BEGIN:STANDARD
TZOFFSETFROM:+0200
TZOFFSETTO:+0100
TZNAME:CET
DTSTART:20251026T010000
END:STANDARD
BEGIN:DAYLIGHT
TZOFFSETFROM:+0100
TZOFFSETTO:+0200
TZNAME:CEST
DTSTART:20260329T010000
END:DAYLIGHT
BEGIN:STANDARD
TZOFFSETFROM:+0200
TZOFFSETTO:+0100
TZNAME:CET
DTSTART:20261025T010000
END:STANDARD
BEGIN:DAYLIGHT
TZOFFSETFROM:+0100
TZOFFSETTO:+0200
TZNAME:CEST
DTSTART:20270328T010000
END:DAYLIGHT
BEGIN:STANDARD
TZOFFSETFROM:+0200
TZOFFSETTO:+0100
TZNAME:CET
DTSTART:20271031T010000
END:STANDARD
END:VTIMEZONE
BEGIN:VEVENT
DTSTART;TZID=Europe/Paris:20260312T193000
DTEND;TZID=Europe/Paris:20260312T213000
DTSTAMP:20260424T104435
CREATED:20250708T011440Z
LAST-MODIFIED:20250708T011440Z
UID:1633-1773343800-1773351000@www.myriamleblanc.net
SUMMARY:A Bach Celebration - Tafelmusik - Toronto
DESCRIPTION:Over the course of 40 years\, J.S. Bach wrote more than 200 astonishing cantatas\, of which only a handful are regularly performed today\nIvars Taurins has combed through all 200 to hand-pick a few hidden gems—choruses\, arias\, and recitatives—that we don’t hear as often in concert. \nOur Bach Celebration magnifies the composer’s mastery and genius\, creating a gallery of aural contrasts that range from a jubilant chorus with trumpets and timpani from Cantata 11 (the “Ascension Oratorio”)\, to the hauntingly beautiful aria “Die seele ruht” from Cantata 127. \nJoining the orchestra and choir are two vocal soloists known for their exquisite Bach interpretations. Soprano Myriam Leblanc\, with her voice “like a brandy distillate\, absolutely transparent” (Le Devoir)\, appeared most recently with Tafelmusik in our 2024 Handel Messiah and is featured in Choral Splendours in March 2025. \nThe Grammy Award-winning tenor James Reese made an impressive Tafelmusik debut in Messiah in 2023. Reese was noted for his “fresh\, youthful tone … Whether in declamatory recitatives or the aria proper\, he sang with great feeling and attention to detail” (Ludwig van Toronto).
URL:https://www.myriamleblanc.net/event/a-bach-celebration-tafelmusik-toronto
LOCATION:Jeanne Lamon Hall\, Trinity-St. Paul’s Centre\, 427 Bloor St W\, Toronto\, Ontario\, Canada
END:VEVENT
END:VCALENDAR