BEGIN:VCALENDAR
VERSION:2.0
PRODID:-//Myriam Leblanc - Soprano - ECPv6.15.20//NONSGML v1.0//EN
CALSCALE:GREGORIAN
METHOD:PUBLISH
X-ORIGINAL-URL:https://www.myriamleblanc.net
X-WR-CALDESC:Événements pour Myriam Leblanc - Soprano
REFRESH-INTERVAL;VALUE=DURATION:PT1H
X-Robots-Tag:noindex
X-PUBLISHED-TTL:PT1H
BEGIN:VTIMEZONE
TZID:Europe/Paris
BEGIN:DAYLIGHT
TZOFFSETFROM:+0100
TZOFFSETTO:+0200
TZNAME:CEST
DTSTART:20250330T010000
END:DAYLIGHT
BEGIN:STANDARD
TZOFFSETFROM:+0200
TZOFFSETTO:+0100
TZNAME:CET
DTSTART:20251026T010000
END:STANDARD
BEGIN:DAYLIGHT
TZOFFSETFROM:+0100
TZOFFSETTO:+0200
TZNAME:CEST
DTSTART:20260329T010000
END:DAYLIGHT
BEGIN:STANDARD
TZOFFSETFROM:+0200
TZOFFSETTO:+0100
TZNAME:CET
DTSTART:20261025T010000
END:STANDARD
BEGIN:DAYLIGHT
TZOFFSETFROM:+0100
TZOFFSETTO:+0200
TZNAME:CEST
DTSTART:20270328T010000
END:DAYLIGHT
BEGIN:STANDARD
TZOFFSETFROM:+0200
TZOFFSETTO:+0100
TZNAME:CET
DTSTART:20271031T010000
END:STANDARD
END:VTIMEZONE
BEGIN:VEVENT
DTSTART;TZID=Europe/Paris:20260222T150000
DTEND;TZID=Europe/Paris:20260222T170000
DTSTAMP:20260424T121521
CREATED:20250708T010158Z
LAST-MODIFIED:20250708T010158Z
UID:1630-1771772400-1771779600@www.myriamleblanc.net
SUMMARY:Eterno Ritorno - Mirabilia - Anglicane à Lévis
DESCRIPTION:Bâties sur des basses obstinées\, les grounds\, les chaconnes et passacailles ont inspiré la plupart des compositeurs depuis le XVIe siècle et permis de générer des centaines d’airs et pièces instrumentales. \nLe caractère improvisé de cette danse permet au sein d’une même pièce de traverser tous les temps\, toutes sortes de caractères et de météos diverses. Une des particularités de ce genre est son aspect résolument sensuel\, avec ses racines dans la tradition populaire\, la basse répétée provoquant une certaine transe.
URL:https://www.myriamleblanc.net/event/eterno-ritorno-mirabilia-anglicane-a-levis
LOCATION:L’Anglicane\, 31 rue Wolfe\, Lévis\, Québec\, G6V 3X5\, Canada
END:VEVENT
END:VCALENDAR