BEGIN:VCALENDAR
VERSION:2.0
PRODID:-//Myriam Leblanc - Soprano - ECPv6.15.20//NONSGML v1.0//EN
CALSCALE:GREGORIAN
METHOD:PUBLISH
X-ORIGINAL-URL:https://www.myriamleblanc.net
X-WR-CALDESC:Événements pour Myriam Leblanc - Soprano
REFRESH-INTERVAL;VALUE=DURATION:PT1H
X-Robots-Tag:noindex
X-PUBLISHED-TTL:PT1H
BEGIN:VTIMEZONE
TZID:Europe/Paris
BEGIN:DAYLIGHT
TZOFFSETFROM:+0100
TZOFFSETTO:+0200
TZNAME:CEST
DTSTART:20250330T010000
END:DAYLIGHT
BEGIN:STANDARD
TZOFFSETFROM:+0200
TZOFFSETTO:+0100
TZNAME:CET
DTSTART:20251026T010000
END:STANDARD
BEGIN:DAYLIGHT
TZOFFSETFROM:+0100
TZOFFSETTO:+0200
TZNAME:CEST
DTSTART:20260329T010000
END:DAYLIGHT
BEGIN:STANDARD
TZOFFSETFROM:+0200
TZOFFSETTO:+0100
TZNAME:CET
DTSTART:20261025T010000
END:STANDARD
BEGIN:DAYLIGHT
TZOFFSETFROM:+0100
TZOFFSETTO:+0200
TZNAME:CEST
DTSTART:20270328T010000
END:DAYLIGHT
BEGIN:STANDARD
TZOFFSETFROM:+0200
TZOFFSETTO:+0100
TZNAME:CET
DTSTART:20271031T010000
END:STANDARD
END:VTIMEZONE
BEGIN:VEVENT
DTSTART;TZID=Europe/Paris:20260215T150000
DTEND;TZID=Europe/Paris:20260215T170000
DTSTAMP:20260424T121521
CREATED:20260115T184351Z
LAST-MODIFIED:20260115T184351Z
UID:1679-1771167600-1771174800@www.myriamleblanc.net
SUMMARY:Amour fou - Montréal - Mirabilia
DESCRIPTION:Chant pour sopranos et clavecin \nAvec Un amour fou\, l’Ensemble Mirabilia vous invitent à un voyage musical entre baroque et modernité. Des œuvres réunies par un thème intemporel : l’amour\, dans toutes ses nuances et couleurs. \nLes sopranos Myriam Leblanc et Len Torrie\, accompagnées de Christophe Gauthier au clavecin\, vous proposent un voyage musical à travers des chansons baroques et modernes sur le thème éternel de l’amour. Poètes et compositeurs de toutes les époques et de différents horizons se rejoignent dans cette magnifique folie qui les a tant inspirés. L’amour\, sans frontières temporelles\, offre à la musique un passeport pour s’exprimer dans tous ses états et toutes ses couleurs\, donnant ainsi à l’auditeur l’occasion de goûter des œuvres qui\, bien que très différentes à première vue\, se trouvent réunies par cette thématique universelle et ces instruments singuliers.
URL:https://www.myriamleblanc.net/event/amour-fou-montreal-mirabilia
LOCATION:Église de la Visitation\, 1847\, boulevard Gouin Est\, Montréal\, Québec\, H2C 1C8\, Canada
END:VEVENT
END:VCALENDAR