BEGIN:VCALENDAR
VERSION:2.0
PRODID:-//Myriam Leblanc - Soprano - ECPv6.15.20//NONSGML v1.0//EN
CALSCALE:GREGORIAN
METHOD:PUBLISH
X-ORIGINAL-URL:https://www.myriamleblanc.net
X-WR-CALDESC:Événements pour Myriam Leblanc - Soprano
REFRESH-INTERVAL;VALUE=DURATION:PT1H
X-Robots-Tag:noindex
X-PUBLISHED-TTL:PT1H
BEGIN:VTIMEZONE
TZID:Europe/Paris
BEGIN:DAYLIGHT
TZOFFSETFROM:+0100
TZOFFSETTO:+0200
TZNAME:CEST
DTSTART:20240331T010000
END:DAYLIGHT
BEGIN:STANDARD
TZOFFSETFROM:+0200
TZOFFSETTO:+0100
TZNAME:CET
DTSTART:20241027T010000
END:STANDARD
BEGIN:DAYLIGHT
TZOFFSETFROM:+0100
TZOFFSETTO:+0200
TZNAME:CEST
DTSTART:20250330T010000
END:DAYLIGHT
BEGIN:STANDARD
TZOFFSETFROM:+0200
TZOFFSETTO:+0100
TZNAME:CET
DTSTART:20251026T010000
END:STANDARD
BEGIN:DAYLIGHT
TZOFFSETFROM:+0100
TZOFFSETTO:+0200
TZNAME:CEST
DTSTART:20260329T010000
END:DAYLIGHT
BEGIN:STANDARD
TZOFFSETFROM:+0200
TZOFFSETTO:+0100
TZNAME:CET
DTSTART:20261025T010000
END:STANDARD
END:VTIMEZONE
BEGIN:VEVENT
DTSTART;TZID=Europe/Paris:20251212T190000
DTEND;TZID=Europe/Paris:20251212T210000
DTSTAMP:20260424T151217
CREATED:20250708T004949Z
LAST-MODIFIED:20250708T004949Z
UID:1616-1765566000-1765573200@www.myriamleblanc.net
SUMMARY:Messie de Handel - Early Music of Vancouver - Vancouver
DESCRIPTION:Artists: Myriam Leblanc\, soprano; Cecilia Duarte\, alto; Jacob Perry\, tenor; Sumner Thompson\, bass; the Vancouver Chamber Choir and the Pacific Baroque Orchestra directed by Alexander Weimann \nEarly Music Vancouver and Vancouver Chamber Choir’s joint mounting of Handel’s indomitable Messiah returns to The Orpheum with a stellar lineup of soloists. At times reflective\, joyful\, solemn\, and mysterious\, this monumental work speaks to audiences across all worlds\, bringing a fundamental message of hope. Alexander Weimann’s direction of this masterpiece is spell-binding. \nRichmond performance generously sponsored by The Graham & Gayle Cooke Foundation. \nVancouver performance generously sponsored by Dr. Katherine E. Paton\, In Memory of Dr. Gunnar Brosamier\, Bryan Atkins\, and Eric Wyness. \nRun time: 130 minutes with intermission
URL:https://www.myriamleblanc.net/event/messie-de-handel-early-music-of-vancouver-vancouver
LOCATION:Fraserview Mennonite Church\, 11295 Mellis Dr\, Richmond\, Colombie-Britannique\, Canada
END:VEVENT
END:VCALENDAR