BEGIN:VCALENDAR
VERSION:2.0
PRODID:-//Myriam Leblanc - Soprano - ECPv6.15.20//NONSGML v1.0//EN
CALSCALE:GREGORIAN
METHOD:PUBLISH
X-ORIGINAL-URL:https://www.myriamleblanc.net
X-WR-CALDESC:Événements pour Myriam Leblanc - Soprano
REFRESH-INTERVAL;VALUE=DURATION:PT1H
X-Robots-Tag:noindex
X-PUBLISHED-TTL:PT1H
BEGIN:VTIMEZONE
TZID:Europe/Paris
BEGIN:DAYLIGHT
TZOFFSETFROM:+0100
TZOFFSETTO:+0200
TZNAME:CEST
DTSTART:20240331T010000
END:DAYLIGHT
BEGIN:STANDARD
TZOFFSETFROM:+0200
TZOFFSETTO:+0100
TZNAME:CET
DTSTART:20241027T010000
END:STANDARD
BEGIN:DAYLIGHT
TZOFFSETFROM:+0100
TZOFFSETTO:+0200
TZNAME:CEST
DTSTART:20250330T010000
END:DAYLIGHT
BEGIN:STANDARD
TZOFFSETFROM:+0200
TZOFFSETTO:+0100
TZNAME:CET
DTSTART:20251026T010000
END:STANDARD
BEGIN:DAYLIGHT
TZOFFSETFROM:+0100
TZOFFSETTO:+0200
TZNAME:CEST
DTSTART:20260329T010000
END:DAYLIGHT
BEGIN:STANDARD
TZOFFSETFROM:+0200
TZOFFSETTO:+0100
TZNAME:CET
DTSTART:20261025T010000
END:STANDARD
END:VTIMEZONE
BEGIN:VEVENT
DTSTART;TZID=Europe/Paris:20251102T160000
DTEND;TZID=Europe/Paris:20251102T180000
DTSTAMP:20260424T163730
CREATED:20250903T150006Z
LAST-MODIFIED:20250903T150006Z
UID:1672-1762099200-1762106400@www.myriamleblanc.net
SUMMARY:Requiem de Mozart - Harmonie des saisons
DESCRIPTION:Le Requiem de W. A. MOZART:  \n\nL’Harmonie des saisons célèbre ses 15 ans en grand! \nPour marquer cet anniversaire exceptionnel\, L’Harmonie des saisons — solistes\, chœur et orchestre — présentera l’une des plus grandes oeuvres du répertoire sacré : le Requiem de W. A. Mozart. L’ensemble composé pour l’occasion de 45 artistes en provenance du Canada\, des États-Unis et du Chili\, vous offrira une expérience musicale saisissante\, entre prière funèbre et théâtre sacré. \nInterprétée sur instruments d’époque\, cette œuvre mythique retrouvera pour l’occasion les couleurs et les textures sonores entendues par le public viennois de 1791. Les timbres riches et profonds des cors naturels\, cors de basset\, trombones et bassons classiques\, appuyés par la chaleur toute organique des cordes en boyau\, insuffleront à cette musique une intensité rare\, mêlant à la fois gravité et fragilité poignante. \nEn ouverture de programme\, vous découvrirez une perle méconnue : le Miserere mei Deus de Marianna Martines (1744–1812)\, compositrice brillante et figure majeure de la Vienne classique. Rarement programmée\, sa musique sacrée\, noble et expressive offira ici un dialogue émouvant entre une voix féminine oubliée et le génie de Mozart — une rencontre musicale aussi surprenante que marquante.
URL:https://www.myriamleblanc.net/event/requiem-de-mozart-harmonie-des-saisons-3
LOCATION:Burlington\, Burlington\, United States
END:VEVENT
END:VCALENDAR