BEGIN:VCALENDAR
VERSION:2.0
PRODID:-//Myriam Leblanc - Soprano - ECPv6.15.20//NONSGML v1.0//EN
CALSCALE:GREGORIAN
METHOD:PUBLISH
X-ORIGINAL-URL:https://www.myriamleblanc.net
X-WR-CALDESC:Événements pour Myriam Leblanc - Soprano
REFRESH-INTERVAL;VALUE=DURATION:PT1H
X-Robots-Tag:noindex
X-PUBLISHED-TTL:PT1H
BEGIN:VTIMEZONE
TZID:Europe/Paris
BEGIN:DAYLIGHT
TZOFFSETFROM:+0100
TZOFFSETTO:+0200
TZNAME:CEST
DTSTART:20240331T010000
END:DAYLIGHT
BEGIN:STANDARD
TZOFFSETFROM:+0200
TZOFFSETTO:+0100
TZNAME:CET
DTSTART:20241027T010000
END:STANDARD
BEGIN:DAYLIGHT
TZOFFSETFROM:+0100
TZOFFSETTO:+0200
TZNAME:CEST
DTSTART:20250330T010000
END:DAYLIGHT
BEGIN:STANDARD
TZOFFSETFROM:+0200
TZOFFSETTO:+0100
TZNAME:CET
DTSTART:20251026T010000
END:STANDARD
BEGIN:DAYLIGHT
TZOFFSETFROM:+0100
TZOFFSETTO:+0200
TZNAME:CEST
DTSTART:20260329T010000
END:DAYLIGHT
BEGIN:STANDARD
TZOFFSETFROM:+0200
TZOFFSETTO:+0100
TZNAME:CET
DTSTART:20261025T010000
END:STANDARD
END:VTIMEZONE
BEGIN:VEVENT
DTSTART;TZID=Europe/Paris:20250810T180000
DTEND;TZID=Europe/Paris:20250810T200000
DTSTAMP:20260424T205551
CREATED:20250708T002815Z
LAST-MODIFIED:20250708T002815Z
UID:1600-1754848800-1754856000@www.myriamleblanc.net
SUMMARY:Amour fou - Outremont - Mirabilia
DESCRIPTION:Avec le concert Amour fou\, la soprano Myriam Leblanc et l’Ensemble Mirabilia proposent un parcours amoureux sur plus de 800 ans. \n\n\nDescription\n\nL’amour\, sans frontières temporelles\, offre un passeport à la musique pour s’exprimer dans tous ses états et ses couleurs caractéristiques\, donnant ainsi au public l’occasion de goûter des œuvres qui n’ont rien en commun de prime abord\, mais qui sont réunies par cette thématique universelle et ces instruments particuliers. \nLieu : Parc Outremont (au coin des avenues Outremont et Elmwood) \nEn cas de pluie\, l’événement est annulé. \nAprès le spectacle\, participer à l’atelier À la découverte de la musique baroque! \nConcert présenté par l’arrondissement d’Outremont dans le cadre de sa programmation culturelle et événementielle en collaboration avec Ensemble Mirabilia. 
URL:https://www.myriamleblanc.net/event/amour-fou-outremont-mirabilia
LOCATION:Parc Outremont\, 1172\, avenue Saint-Viateur\, Montréal\, Canada
END:VEVENT
END:VCALENDAR