BEGIN:VCALENDAR
VERSION:2.0
PRODID:-//Myriam Leblanc - Soprano - ECPv6.15.20//NONSGML v1.0//EN
CALSCALE:GREGORIAN
METHOD:PUBLISH
X-ORIGINAL-URL:https://www.myriamleblanc.net
X-WR-CALDESC:Événements pour Myriam Leblanc - Soprano
REFRESH-INTERVAL;VALUE=DURATION:PT1H
X-Robots-Tag:noindex
X-PUBLISHED-TTL:PT1H
BEGIN:VTIMEZONE
TZID:Europe/Paris
BEGIN:DAYLIGHT
TZOFFSETFROM:+0100
TZOFFSETTO:+0200
TZNAME:CEST
DTSTART:20240331T010000
END:DAYLIGHT
BEGIN:STANDARD
TZOFFSETFROM:+0200
TZOFFSETTO:+0100
TZNAME:CET
DTSTART:20241027T010000
END:STANDARD
BEGIN:DAYLIGHT
TZOFFSETFROM:+0100
TZOFFSETTO:+0200
TZNAME:CEST
DTSTART:20250330T010000
END:DAYLIGHT
BEGIN:STANDARD
TZOFFSETFROM:+0200
TZOFFSETTO:+0100
TZNAME:CET
DTSTART:20251026T010000
END:STANDARD
BEGIN:DAYLIGHT
TZOFFSETFROM:+0100
TZOFFSETTO:+0200
TZNAME:CEST
DTSTART:20260329T010000
END:DAYLIGHT
BEGIN:STANDARD
TZOFFSETFROM:+0200
TZOFFSETTO:+0100
TZNAME:CET
DTSTART:20261025T010000
END:STANDARD
END:VTIMEZONE
BEGIN:VEVENT
DTSTART;TZID=Europe/Paris:20250621T190000
DTEND;TZID=Europe/Paris:20250621T210000
DTSTAMP:20260425T001214
CREATED:20250128T001810Z
LAST-MODIFIED:20250128T001810Z
UID:1552-1750532400-1750539600@www.myriamleblanc.net
SUMMARY:Grand concert : Voyage d'hiver
DESCRIPTION:L’errance d’un vagabond solitaire\, amoureux éconduit hanté par ses souvenirs\, dans le froid mortel et la lumière vacillante de l’hiver.\nC’est ce que raconte le Winterreise (Voyage d’hiver) de Franz Schubert\, une épopée intime au cœur d’un paysage austère mais d’une beauté impitoyable\, dans lequel l’hiver ne renvoit au voyageur que désolation\, tromperie\, souffrance… La soprano Myriam Leblanc et la pianofortiste Elizaveta Miller sauront rendre merveilleusement ce chef-d’œuvre absolu du Romantisme.
URL:https://www.myriamleblanc.net/event/grand-concert-voyage-dhiver
LOCATION:Chapelle Notre-Dame-de-Bon-Secours\, 400 Rue Saint-Paul E\, Montréal\, Québec\, H2Y 1H4\, Canada
END:VEVENT
END:VCALENDAR