BEGIN:VCALENDAR
VERSION:2.0
PRODID:-//Myriam Leblanc - Soprano - ECPv6.15.20//NONSGML v1.0//EN
CALSCALE:GREGORIAN
METHOD:PUBLISH
X-WR-CALNAME:Myriam Leblanc - Soprano
X-ORIGINAL-URL:https://www.myriamleblanc.net
X-WR-CALDESC:Événements pour Myriam Leblanc - Soprano
REFRESH-INTERVAL;VALUE=DURATION:PT1H
X-Robots-Tag:noindex
X-PUBLISHED-TTL:PT1H
BEGIN:VTIMEZONE
TZID:Europe/Paris
BEGIN:DAYLIGHT
TZOFFSETFROM:+0100
TZOFFSETTO:+0200
TZNAME:CEST
DTSTART:20240331T010000
END:DAYLIGHT
BEGIN:STANDARD
TZOFFSETFROM:+0200
TZOFFSETTO:+0100
TZNAME:CET
DTSTART:20241027T010000
END:STANDARD
BEGIN:DAYLIGHT
TZOFFSETFROM:+0100
TZOFFSETTO:+0200
TZNAME:CEST
DTSTART:20250330T010000
END:DAYLIGHT
BEGIN:STANDARD
TZOFFSETFROM:+0200
TZOFFSETTO:+0100
TZNAME:CET
DTSTART:20251026T010000
END:STANDARD
BEGIN:DAYLIGHT
TZOFFSETFROM:+0100
TZOFFSETTO:+0200
TZNAME:CEST
DTSTART:20260329T010000
END:DAYLIGHT
BEGIN:STANDARD
TZOFFSETFROM:+0200
TZOFFSETTO:+0100
TZNAME:CET
DTSTART:20261025T010000
END:STANDARD
END:VTIMEZONE
BEGIN:VEVENT
DTSTART;TZID=Europe/Paris:20250507T193000
DTEND;TZID=Europe/Paris:20250507T213000
DTSTAMP:20260425T014824
CREATED:20250128T000726Z
LAST-MODIFIED:20250128T000726Z
UID:1545-1746646200-1746653400@www.myriamleblanc.net
SUMMARY:Cage d'oiseau - La Chapelle Historique - Jean Marchand
DESCRIPTION:Myriam Leblanc\, soprano\nJean Marchand\, piano \nAu programme\, le cycle Poémes pour Mi de Messiaen ainsi que les deux versions du magnifique poème de St-Denys Garneau\, Cage d’oiseau de Denis Bédard et Serge Garant.
URL:https://www.myriamleblanc.net/event/cage-doiseau-la-chapelle-historique-jean-marchand
LOCATION:Salle Paul-Desmarais du Centre canadien d’Architecture\, 1920 rue baile\, Montréal\, Canada
END:VEVENT
END:VCALENDAR