BEGIN:VCALENDAR
VERSION:2.0
PRODID:-//Myriam Leblanc - Soprano - ECPv6.15.20//NONSGML v1.0//EN
CALSCALE:GREGORIAN
METHOD:PUBLISH
X-ORIGINAL-URL:https://www.myriamleblanc.net
X-WR-CALDESC:Événements pour Myriam Leblanc - Soprano
REFRESH-INTERVAL;VALUE=DURATION:PT1H
X-Robots-Tag:noindex
X-PUBLISHED-TTL:PT1H
BEGIN:VTIMEZONE
TZID:Europe/Paris
BEGIN:DAYLIGHT
TZOFFSETFROM:+0100
TZOFFSETTO:+0200
TZNAME:CEST
DTSTART:20230326T010000
END:DAYLIGHT
BEGIN:STANDARD
TZOFFSETFROM:+0200
TZOFFSETTO:+0100
TZNAME:CET
DTSTART:20231029T010000
END:STANDARD
BEGIN:DAYLIGHT
TZOFFSETFROM:+0100
TZOFFSETTO:+0200
TZNAME:CEST
DTSTART:20240331T010000
END:DAYLIGHT
BEGIN:STANDARD
TZOFFSETFROM:+0200
TZOFFSETTO:+0100
TZNAME:CET
DTSTART:20241027T010000
END:STANDARD
BEGIN:DAYLIGHT
TZOFFSETFROM:+0100
TZOFFSETTO:+0200
TZNAME:CEST
DTSTART:20250330T010000
END:DAYLIGHT
BEGIN:STANDARD
TZOFFSETFROM:+0200
TZOFFSETTO:+0100
TZNAME:CET
DTSTART:20251026T010000
END:STANDARD
END:VTIMEZONE
BEGIN:VEVENT
DTSTART;TZID=Europe/Paris:20240730T190000
DTEND;TZID=Europe/Paris:20240730T200000
DTSTAMP:20260425T151439
CREATED:20240618T232439Z
LAST-MODIFIED:20240618T232439Z
UID:1319-1722366000-1722369600@www.myriamleblanc.net
SUMMARY:Mardi de Médéric - Ensemble Mirabilia- Montréal
DESCRIPTION:Les Mardis de Médéric vous propose des concerts variés tout au long de l’été. Cette semaine\, laissez-vous enchanter par le répertoire classique de L’Ensemble Mirabilia. \n\n\nDescription\n\nLa soprano Myriam Leblanc\, accompagnée de Grégoire Jeay à la flûte\, de Christophe Gauthier à la guitare et à l’archiluth propose des chansons baroques et modernes sur le thème éternel de l’amour. Un voyage en musique où les poétesses et poètes\, compositrices et compositeurs de toutes les époques et de différents pays se rejoignent dans cette magnifique folie qui les a tant inspirés. \nL’amour\, sans frontières temporelles\, offre un passeport à la musique pour s’exprimer dans tous ses états et ses couleurs caractéristiques\, donnant ainsi au public l’occasion de goûter des œuvres qui n’ont rien en commun de prime abord\, mais qui sont réunies par cette thématique universelle et ces instruments particuliers.
URL:https://www.myriamleblanc.net/event/mardi-de-mederic-ensemble-mirabilia-montreal
LOCATION:Parc Médéric Martin\, 2329 avenue Gascon\, Montréal
END:VEVENT
END:VCALENDAR