BEGIN:VCALENDAR
VERSION:2.0
PRODID:-//Myriam Leblanc - Soprano - ECPv6.15.20//NONSGML v1.0//EN
CALSCALE:GREGORIAN
METHOD:PUBLISH
X-ORIGINAL-URL:https://www.myriamleblanc.net
X-WR-CALDESC:Événements pour Myriam Leblanc - Soprano
REFRESH-INTERVAL;VALUE=DURATION:PT1H
X-Robots-Tag:noindex
X-PUBLISHED-TTL:PT1H
BEGIN:VTIMEZONE
TZID:Europe/Paris
BEGIN:DAYLIGHT
TZOFFSETFROM:+0100
TZOFFSETTO:+0200
TZNAME:CEST
DTSTART:20230326T010000
END:DAYLIGHT
BEGIN:STANDARD
TZOFFSETFROM:+0200
TZOFFSETTO:+0100
TZNAME:CET
DTSTART:20231029T010000
END:STANDARD
BEGIN:DAYLIGHT
TZOFFSETFROM:+0100
TZOFFSETTO:+0200
TZNAME:CEST
DTSTART:20240331T010000
END:DAYLIGHT
BEGIN:STANDARD
TZOFFSETFROM:+0200
TZOFFSETTO:+0100
TZNAME:CET
DTSTART:20241027T010000
END:STANDARD
BEGIN:DAYLIGHT
TZOFFSETFROM:+0100
TZOFFSETTO:+0200
TZNAME:CEST
DTSTART:20250330T010000
END:DAYLIGHT
BEGIN:STANDARD
TZOFFSETFROM:+0200
TZOFFSETTO:+0100
TZNAME:CET
DTSTART:20251026T010000
END:STANDARD
END:VTIMEZONE
BEGIN:VEVENT
DTSTART;TZID=Europe/Paris:20240413T193000
DTEND;TZID=Europe/Paris:20240413T213000
DTSTAMP:20260425T204906
CREATED:20230811T160409Z
LAST-MODIFIED:20230811T160409Z
UID:1180-1713036600-1713043800@www.myriamleblanc.net
SUMMARY:Le Gloria de Vivaldi – Les Violons du Roy – Montréal
DESCRIPTION:La Chapelle de Québec dans toute sa splendeur! Bernard Labadie dirige un florilège d’œuvres baroques composées par les plus grands maîtres de l’époque\, incluant le célèbre et réjouissant Gloria de Vivaldi. Un programme qui ravira les amoureux de musique chorale grâce aux choristes exceptionnels de La Chapelle de Québec. \n  \n\nBernard Labadie\, Chef\nMyriam Leblanc\, Soprano\nSheila Dietrich\, Soprano\nMarie-Andrée Mathieu\, Mezzo-soprano\nPhilippe Gagné\, Ténor\nNathaniel Watson\, Baryton\nLa Chapelle de Québec\, Chœur de chambre
URL:https://www.myriamleblanc.net/event/le-gloria-de-vivaldi-les-violons-du-roy-montreal
LOCATION:Maison Symphonique\, 1600 Rue Saint-Urbain\, Montréal\, Québec\, QC H2X 0S1\, Canada
END:VEVENT
END:VCALENDAR