BEGIN:VCALENDAR
VERSION:2.0
PRODID:-//Myriam Leblanc - Soprano - ECPv6.15.20//NONSGML v1.0//EN
CALSCALE:GREGORIAN
METHOD:PUBLISH
X-WR-CALNAME:Myriam Leblanc - Soprano
X-ORIGINAL-URL:https://www.myriamleblanc.net
X-WR-CALDESC:Événements pour Myriam Leblanc - Soprano
REFRESH-INTERVAL;VALUE=DURATION:PT1H
X-Robots-Tag:noindex
X-PUBLISHED-TTL:PT1H
BEGIN:VTIMEZONE
TZID:Europe/Paris
BEGIN:DAYLIGHT
TZOFFSETFROM:+0100
TZOFFSETTO:+0200
TZNAME:CEST
DTSTART:20230326T010000
END:DAYLIGHT
BEGIN:STANDARD
TZOFFSETFROM:+0200
TZOFFSETTO:+0100
TZNAME:CET
DTSTART:20231029T010000
END:STANDARD
BEGIN:DAYLIGHT
TZOFFSETFROM:+0100
TZOFFSETTO:+0200
TZNAME:CEST
DTSTART:20240331T010000
END:DAYLIGHT
BEGIN:STANDARD
TZOFFSETFROM:+0200
TZOFFSETTO:+0100
TZNAME:CET
DTSTART:20241027T010000
END:STANDARD
BEGIN:DAYLIGHT
TZOFFSETFROM:+0100
TZOFFSETTO:+0200
TZNAME:CEST
DTSTART:20250330T010000
END:DAYLIGHT
BEGIN:STANDARD
TZOFFSETFROM:+0200
TZOFFSETTO:+0100
TZNAME:CET
DTSTART:20251026T010000
END:STANDARD
END:VTIMEZONE
BEGIN:VEVENT
DTSTART;TZID=Europe/Paris:20240322T200000
DTEND;TZID=Europe/Paris:20240322T220000
DTSTAMP:20260425T220951
CREATED:20230811T154225Z
LAST-MODIFIED:20230811T154225Z
UID:1169-1711137600-1711144800@www.myriamleblanc.net
SUMMARY:Beethoven\, la 9e - Newfoundland Symphony Orchestra - St-John's
DESCRIPTION:The Newfoundland Symphony Orchestra presents Masterworks 4: Ode to Joy. The NSO takes the stage to present one of the most well-known works in all of classical music – Beethoven’s 9th Symphony. The orchestra\, under the direction of Marc David\, will be joined by four guest soloists and the Philharmonic Choir of the NSO for this masterpiece. The concert will also include the performance of Beethoven Unwound by our own Peter Gardner. \nGuest soloists include Myriam Leblanc\, soprano; Abra Whitney\, mezzo; David Pomeroy\, tenor; Alexandre Sylvestre\, baritone. \nOde to Joy will take place on Friday\, March 22\, 2024 beginning at 8:00pm.
URL:https://www.myriamleblanc.net/event/beethoven-la-9e-newfoundland-symphony-orchestra-st-johns
LOCATION:Arts and Culture Center\, 95 Allandale Rd\, St-John\, Terre-Neuve et Labrador\, Canada
END:VEVENT
END:VCALENDAR