BEGIN:VCALENDAR
VERSION:2.0
PRODID:-//Myriam Leblanc - Soprano - ECPv6.15.20//NONSGML v1.0//EN
CALSCALE:GREGORIAN
METHOD:PUBLISH
X-ORIGINAL-URL:https://www.myriamleblanc.net
X-WR-CALDESC:Événements pour Myriam Leblanc - Soprano
REFRESH-INTERVAL;VALUE=DURATION:PT1H
X-Robots-Tag:noindex
X-PUBLISHED-TTL:PT1H
BEGIN:VTIMEZONE
TZID:Europe/Paris
BEGIN:DAYLIGHT
TZOFFSETFROM:+0100
TZOFFSETTO:+0200
TZNAME:CEST
DTSTART:20230326T010000
END:DAYLIGHT
BEGIN:STANDARD
TZOFFSETFROM:+0200
TZOFFSETTO:+0100
TZNAME:CET
DTSTART:20231029T010000
END:STANDARD
BEGIN:DAYLIGHT
TZOFFSETFROM:+0100
TZOFFSETTO:+0200
TZNAME:CEST
DTSTART:20240331T010000
END:DAYLIGHT
BEGIN:STANDARD
TZOFFSETFROM:+0200
TZOFFSETTO:+0100
TZNAME:CET
DTSTART:20241027T010000
END:STANDARD
BEGIN:DAYLIGHT
TZOFFSETFROM:+0100
TZOFFSETTO:+0200
TZNAME:CEST
DTSTART:20250330T010000
END:DAYLIGHT
BEGIN:STANDARD
TZOFFSETFROM:+0200
TZOFFSETTO:+0100
TZNAME:CET
DTSTART:20251026T010000
END:STANDARD
END:VTIMEZONE
BEGIN:VEVENT
DTSTART;TZID=Europe/Paris:20240317T150000
DTEND;TZID=Europe/Paris:20240317T170000
DTSTAMP:20260425T233312
CREATED:20230811T152255Z
LAST-MODIFIED:20230811T152255Z
UID:1162-1710687600-1710694800@www.myriamleblanc.net
SUMMARY:Couronnement : Mozart et Vivaldi - Repentigny
DESCRIPTION:Pour célébrer ses vingt ans\, l’Ensemble vocal Vox Luminosa vous offre la Messe du couronnement de Wolfgang Amadeus Mozart\, œuvre tout indiquée pour souligner cet événement ainsi que le 40e anniversaire de l’Aramusique. Cette double célébration marque l’importance de la musique classique dans toute sa grandeur\, ici\, chez nous\, à Repentigny. \nNe manquez pas ce rendez-vous vocal incontournable du printemps où vous pourrez entendre l’immortel Gloria de Vivaldi en complément de programme. \n\n\n\n\n\n\n\n\nArtistes : \nEnsemble vocal et instrumental Vox Luminosa \nDirection Claudel Callender
URL:https://www.myriamleblanc.net/event/couronnement-mozart-et-vivaldi-repentigny
LOCATION:Théatre Alphonse-Desjardins\, 25 All. de la Création\, Repentigny\, Québec\, Canada
END:VEVENT
END:VCALENDAR