BEGIN:VCALENDAR
VERSION:2.0
PRODID:-//Myriam Leblanc - Soprano - ECPv6.15.20//NONSGML v1.0//EN
CALSCALE:GREGORIAN
METHOD:PUBLISH
X-WR-CALNAME:Myriam Leblanc - Soprano
X-ORIGINAL-URL:https://www.myriamleblanc.net
X-WR-CALDESC:Événements pour Myriam Leblanc - Soprano
REFRESH-INTERVAL;VALUE=DURATION:PT1H
X-Robots-Tag:noindex
X-PUBLISHED-TTL:PT1H
BEGIN:VTIMEZONE
TZID:Europe/Paris
BEGIN:DAYLIGHT
TZOFFSETFROM:+0100
TZOFFSETTO:+0200
TZNAME:CEST
DTSTART:20230326T010000
END:DAYLIGHT
BEGIN:STANDARD
TZOFFSETFROM:+0200
TZOFFSETTO:+0100
TZNAME:CET
DTSTART:20231029T010000
END:STANDARD
BEGIN:DAYLIGHT
TZOFFSETFROM:+0100
TZOFFSETTO:+0200
TZNAME:CEST
DTSTART:20240331T010000
END:DAYLIGHT
BEGIN:STANDARD
TZOFFSETFROM:+0200
TZOFFSETTO:+0100
TZNAME:CET
DTSTART:20241027T010000
END:STANDARD
BEGIN:DAYLIGHT
TZOFFSETFROM:+0100
TZOFFSETTO:+0200
TZNAME:CEST
DTSTART:20250330T010000
END:DAYLIGHT
BEGIN:STANDARD
TZOFFSETFROM:+0200
TZOFFSETTO:+0100
TZNAME:CET
DTSTART:20251026T010000
END:STANDARD
END:VTIMEZONE
BEGIN:VEVENT
DTSTART;TZID=Europe/Paris:20240225T140000
DTEND;TZID=Europe/Paris:20240225T170000
DTSTAMP:20260425T232703
CREATED:20240119T021522Z
LAST-MODIFIED:20240119T021522Z
UID:1218-1708869600-1708880400@www.myriamleblanc.net
SUMMARY:Carmen - OPCM - Maison Symphonique
DESCRIPTION:Laissez-vous transporter par les somptueuses mélodies françaises pour une soirée de drame et de passion avec l’OpéraCarmen. L’Orchestre Philharmonique et Chœur des Mélomanes (OPCM) présente ce chef-d’œuvre de Bizet en version concert avec Wallis Giunta (Carmen) et Adrian Kramer (Don José)\, dans une tragédie amoureuse inoubliable. Ils seront accompagnés par 60 musiciens et 120 choristes de l’OPCM et des Petits Chanteurs de Mont-Royal sous la direction de Francis Choinière. \n  \nProgramme: Carmen(version concert) – Georges Bizet \n  \nChef d’orchestre :Francis Choinière \nChorale d’enfants : Petits Chanteurs du Mont-Royal \nChef de choeur : Andrew Gray \nCarmen – Wallis Giunta \nDon José – Adrian Kramer \nEscamillo – Hugo Laporte \nMicaëla – Myriam LeBlanc \nZuniga – Alain Coulombe \nLe Dancaire et Moralès – Geoffrey Schellenberg \nLe Remendado – Samuel Champagne \nMercédès – Florence Bourget \nFrasquita – Catherine St-Arnaud \n  \nDurée (160 minutes – avec entracte)
URL:https://www.myriamleblanc.net/event/carmen-opcm-maison-symphonique-2
LOCATION:Maison Symphonique\, 1600 Rue Saint-Urbain\, Montréal\, Québec\, QC H2X 0S1\, Canada
END:VEVENT
END:VCALENDAR