BEGIN:VCALENDAR
VERSION:2.0
PRODID:-//Myriam Leblanc - Soprano - ECPv6.15.20//NONSGML v1.0//EN
CALSCALE:GREGORIAN
METHOD:PUBLISH
X-WR-CALNAME:Myriam Leblanc - Soprano
X-ORIGINAL-URL:https://www.myriamleblanc.net
X-WR-CALDESC:Événements pour Myriam Leblanc - Soprano
REFRESH-INTERVAL;VALUE=DURATION:PT1H
X-Robots-Tag:noindex
X-PUBLISHED-TTL:PT1H
BEGIN:VTIMEZONE
TZID:Europe/Paris
BEGIN:DAYLIGHT
TZOFFSETFROM:+0100
TZOFFSETTO:+0200
TZNAME:CEST
DTSTART:20230326T010000
END:DAYLIGHT
BEGIN:STANDARD
TZOFFSETFROM:+0200
TZOFFSETTO:+0100
TZNAME:CET
DTSTART:20231029T010000
END:STANDARD
BEGIN:DAYLIGHT
TZOFFSETFROM:+0100
TZOFFSETTO:+0200
TZNAME:CEST
DTSTART:20240331T010000
END:DAYLIGHT
BEGIN:STANDARD
TZOFFSETFROM:+0200
TZOFFSETTO:+0100
TZNAME:CET
DTSTART:20241027T010000
END:STANDARD
BEGIN:DAYLIGHT
TZOFFSETFROM:+0100
TZOFFSETTO:+0200
TZNAME:CEST
DTSTART:20250330T010000
END:DAYLIGHT
BEGIN:STANDARD
TZOFFSETFROM:+0200
TZOFFSETTO:+0100
TZNAME:CET
DTSTART:20251026T010000
END:STANDARD
END:VTIMEZONE
BEGIN:VEVENT
DTSTART;TZID=Europe/Paris:20240210T200000
DTEND;TZID=Europe/Paris:20240210T220000
DTSTAMP:20260425T232626
CREATED:20230811T145209Z
LAST-MODIFIED:20240119T021629Z
UID:1148-1707595200-1707602400@www.myriamleblanc.net
SUMMARY:Dis\, quand reviendras-tu? - Mirabilia - Brownsburg-Chatham
DESCRIPTION:La soprano Myriam Leblanc\, accompagnée de Grégoire Jeay à la flûte et de Sylvain Bergeron à la guitare et à l’archiluth\, vous propose des chansons baroque et moderne sur le thème éternel de l’amour. Un voyage en musique où les poètes et compositeurs de toutes les époques et de différents pays se rejoignent dans cette magnifique folie qui les a tant inspirés. \nL’amour\, sans frontières temporelles\, offre un passeport à la musique pour s’exprimer dans tous ses états et ses couleurs caractéristiques\, donnant ainsi à l’auditeur l’occasion de goûter des œuvres qui n’ont rien en commun de prime abord\, mais qui sont réunies par cette thématique universelle et ces instruments particuliers. \n\n\n\n\n\n\n\n\nArtistes : \nMyriam Leblanc\, soprano \nSylvain Bergeron\, archiluth et guitare baroque \nGrégoire Jeay\, flûte baroque
URL:https://www.myriamleblanc.net/event/dis-quand-reviendras-tu-mirabilia-brownsburg-chatham
LOCATION:Espace Culturel St-Gilles\, 562\, route des Outaouais\, Brownsburg-Chatham\, Québec\, J8G 1V2\, Canada
END:VEVENT
END:VCALENDAR