BEGIN:VCALENDAR
VERSION:2.0
PRODID:-//Myriam Leblanc - Soprano - ECPv6.15.20//NONSGML v1.0//EN
CALSCALE:GREGORIAN
METHOD:PUBLISH
X-ORIGINAL-URL:https://www.myriamleblanc.net
X-WR-CALDESC:Événements pour Myriam Leblanc - Soprano
REFRESH-INTERVAL;VALUE=DURATION:PT1H
X-Robots-Tag:noindex
X-PUBLISHED-TTL:PT1H
BEGIN:VTIMEZONE
TZID:Europe/Paris
BEGIN:DAYLIGHT
TZOFFSETFROM:+0100
TZOFFSETTO:+0200
TZNAME:CEST
DTSTART:20220327T010000
END:DAYLIGHT
BEGIN:STANDARD
TZOFFSETFROM:+0200
TZOFFSETTO:+0100
TZNAME:CET
DTSTART:20221030T010000
END:STANDARD
BEGIN:DAYLIGHT
TZOFFSETFROM:+0100
TZOFFSETTO:+0200
TZNAME:CEST
DTSTART:20230326T010000
END:DAYLIGHT
BEGIN:STANDARD
TZOFFSETFROM:+0200
TZOFFSETTO:+0100
TZNAME:CET
DTSTART:20231029T010000
END:STANDARD
BEGIN:DAYLIGHT
TZOFFSETFROM:+0100
TZOFFSETTO:+0200
TZNAME:CEST
DTSTART:20240331T010000
END:DAYLIGHT
BEGIN:STANDARD
TZOFFSETFROM:+0200
TZOFFSETTO:+0100
TZNAME:CET
DTSTART:20241027T010000
END:STANDARD
END:VTIMEZONE
BEGIN:VEVENT
DTSTART;TZID=Europe/Paris:20231222T193000
DTEND;TZID=Europe/Paris:20231222T213000
DTSTAMP:20260426T022107
CREATED:20230810T160838Z
LAST-MODIFIED:20230810T160838Z
UID:1143-1703273400-1703280600@www.myriamleblanc.net
SUMMARY:Messiah – Symphony Nova Scotia – Ivars Taurins
DESCRIPTION:Featuring \nIvars Taurins\, conductor\nMyriam Leblanc\, soprano\nNicholas Burns\, countertenor\nJames Reese\, tenor\nClarence Frazer\, baritone\nJoel Tranquilla\, chorus master\nSymphony Nova Scotia Chorus with Halifax Camerata Singers\nSymphony Nova Scotia\n\nOn the program \n\nGeorge Frideric Handel: Messiah \n\n\n\n\n\n\nHandel’s Messiah is a magnificent\, electrifying masterpiece\, and a highlight of the Christmas season for millions around the world every year. We’re thrilled to welcome esteemed guest conductor Ivars Taurins\, a specialist in Baroque choral works who is beloved for his charismatic\, uplifting interpretation of this holiday favourite. Together with four guest vocal soloists and the 80-voice Symphony Nova Scotia Chorus\, Taurins and the Symphony proudly present Handel’s glorious creation.
URL:https://www.myriamleblanc.net/event/messiah-symphony-nova-scotia-ivars-taurins-2
LOCATION:Rebecca Cohn\, 6101 University Avenue\, Halifax\, Nova Scotia\, Canada
END:VEVENT
END:VCALENDAR