BEGIN:VCALENDAR
VERSION:2.0
PRODID:-//Myriam Leblanc - Soprano - ECPv6.15.20//NONSGML v1.0//EN
CALSCALE:GREGORIAN
METHOD:PUBLISH
X-ORIGINAL-URL:https://www.myriamleblanc.net
X-WR-CALDESC:Événements pour Myriam Leblanc - Soprano
REFRESH-INTERVAL;VALUE=DURATION:PT1H
X-Robots-Tag:noindex
X-PUBLISHED-TTL:PT1H
BEGIN:VTIMEZONE
TZID:Europe/Paris
BEGIN:DAYLIGHT
TZOFFSETFROM:+0100
TZOFFSETTO:+0200
TZNAME:CEST
DTSTART:20220327T010000
END:DAYLIGHT
BEGIN:STANDARD
TZOFFSETFROM:+0200
TZOFFSETTO:+0100
TZNAME:CET
DTSTART:20221030T010000
END:STANDARD
BEGIN:DAYLIGHT
TZOFFSETFROM:+0100
TZOFFSETTO:+0200
TZNAME:CEST
DTSTART:20230326T010000
END:DAYLIGHT
BEGIN:STANDARD
TZOFFSETFROM:+0200
TZOFFSETTO:+0100
TZNAME:CET
DTSTART:20231029T010000
END:STANDARD
BEGIN:DAYLIGHT
TZOFFSETFROM:+0100
TZOFFSETTO:+0200
TZNAME:CEST
DTSTART:20240331T010000
END:DAYLIGHT
BEGIN:STANDARD
TZOFFSETFROM:+0200
TZOFFSETTO:+0100
TZNAME:CET
DTSTART:20241027T010000
END:STANDARD
END:VTIMEZONE
BEGIN:VEVENT
DTSTART;TZID=Europe/Paris:20231214T193000
DTEND;TZID=Europe/Paris:20231214T213000
DTSTAMP:20260426T022101
CREATED:20230810T160102Z
LAST-MODIFIED:20230810T160102Z
UID:1134-1702582200-1702589400@www.myriamleblanc.net
SUMMARY:Les Violons Roy - l'Intégrale de l'Oratorio de Noël
DESCRIPTION:Avec La Chapelle de Québec et quatre solistes spécialement choisis\, Jonathan Cohen propose la version intégrale de l’Oratorio de Noël de J.S. Bach en guise d’invitation aux réjouissances du temps des fêtes. Une musique flamboyante et des chœurs spectaculaires qui célèbrent une histoire millénaire.
URL:https://www.myriamleblanc.net/event/les-violons-roy-lintegrale-de-loratorio-de-noel
LOCATION:Palais Montcalm\, 995 Rue D'Youville\, Québec\, Québec\, G1R 3P1\, Canada
END:VEVENT
END:VCALENDAR