BEGIN:VCALENDAR
VERSION:2.0
PRODID:-//Myriam Leblanc - Soprano - ECPv6.15.20//NONSGML v1.0//EN
CALSCALE:GREGORIAN
METHOD:PUBLISH
X-ORIGINAL-URL:https://www.myriamleblanc.net
X-WR-CALDESC:Événements pour Myriam Leblanc - Soprano
REFRESH-INTERVAL;VALUE=DURATION:PT1H
X-Robots-Tag:noindex
X-PUBLISHED-TTL:PT1H
BEGIN:VTIMEZONE
TZID:Europe/Paris
BEGIN:DAYLIGHT
TZOFFSETFROM:+0100
TZOFFSETTO:+0200
TZNAME:CEST
DTSTART:20220327T010000
END:DAYLIGHT
BEGIN:STANDARD
TZOFFSETFROM:+0200
TZOFFSETTO:+0100
TZNAME:CET
DTSTART:20221030T010000
END:STANDARD
BEGIN:DAYLIGHT
TZOFFSETFROM:+0100
TZOFFSETTO:+0200
TZNAME:CEST
DTSTART:20230326T010000
END:DAYLIGHT
BEGIN:STANDARD
TZOFFSETFROM:+0200
TZOFFSETTO:+0100
TZNAME:CET
DTSTART:20231029T010000
END:STANDARD
BEGIN:DAYLIGHT
TZOFFSETFROM:+0100
TZOFFSETTO:+0200
TZNAME:CEST
DTSTART:20240331T010000
END:DAYLIGHT
BEGIN:STANDARD
TZOFFSETFROM:+0200
TZOFFSETTO:+0100
TZNAME:CET
DTSTART:20241027T010000
END:STANDARD
END:VTIMEZONE
BEGIN:VEVENT
DTSTART;TZID=Europe/Paris:20231202T200000
DTEND;TZID=Europe/Paris:20231202T220000
DTSTAMP:20260426T022046
CREATED:20231108T144308Z
LAST-MODIFIED:20231108T144308Z
UID:1191-1701547200-1701554400@www.myriamleblanc.net
SUMMARY:Magnificat - Ottawa Bach Choir - Ottawa
DESCRIPTION:The first concert of our 22nd season begins with festive baroque settings of the Magnificat by several composers\, including the original setting by Johann Sebastian Bach\, composed for his first Christmas in Leipzig in 1723\, as well as by Jan Dismas Zelenka and Heinrich Biber\, both originally from the Czech Republic\, and the Italian Isabella Leonarda. Also included is the virtuosic cantata for soprano and trumpet\, Jauchzet Gott in allen Landen\, BWV 51. The Theatre of Early Music baroque orchestra joins the choir\, along with spectacular guest baroque soloists\, soprano Myriam Leblanc\, countertenor Daniel Taylor\, tenor Owen McCausland and bass Alex Dobson. Come share our passion as we celebrate this festive season in the beautiful acoustic of St. Matthew’s Church\, with magnificent works from the Baroque period with some of Canada’s leading musicians in this style—you won’t want to miss it! \n\n\nSaturday\, December 2\, 2023\, 8 PM \nSt. Matthew’s Church\n130 Glebe Avenue\, Ottawa \n\n*Please note that after purchase\, tickets will be sent by email and your name will be added to a guest list. Please bring your tickets to the concert.
URL:https://www.myriamleblanc.net/event/magnificat-ottawa-bach-choir-ottawa
LOCATION:St-Matthew’s Church\, 130 Glebe Avenue\, Ottawa\, Canada
END:VEVENT
END:VCALENDAR